BEGIN:VCALENDAR
VERSION:2.0
PRODID:-//North Seattle Cooperative Preschools - ECPv6.15.17.1//NONSGML v1.0//EN
CALSCALE:GREGORIAN
METHOD:PUBLISH
X-ORIGINAL-URL:https://www.northseattlecoops.org
X-WR-CALDESC:Events for North Seattle Cooperative Preschools
REFRESH-INTERVAL;VALUE=DURATION:PT1H
X-Robots-Tag:noindex
X-PUBLISHED-TTL:PT1H
BEGIN:VTIMEZONE
TZID:America/Los_Angeles
BEGIN:DAYLIGHT
TZOFFSETFROM:-0800
TZOFFSETTO:-0700
TZNAME:PDT
DTSTART:20170312T100000
END:DAYLIGHT
BEGIN:STANDARD
TZOFFSETFROM:-0700
TZOFFSETTO:-0800
TZNAME:PST
DTSTART:20171105T090000
END:STANDARD
BEGIN:DAYLIGHT
TZOFFSETFROM:-0800
TZOFFSETTO:-0700
TZNAME:PDT
DTSTART:20180311T100000
END:DAYLIGHT
BEGIN:STANDARD
TZOFFSETFROM:-0700
TZOFFSETTO:-0800
TZNAME:PST
DTSTART:20181104T090000
END:STANDARD
BEGIN:DAYLIGHT
TZOFFSETFROM:-0800
TZOFFSETTO:-0700
TZNAME:PDT
DTSTART:20190310T100000
END:DAYLIGHT
BEGIN:STANDARD
TZOFFSETFROM:-0700
TZOFFSETTO:-0800
TZNAME:PST
DTSTART:20191103T090000
END:STANDARD
END:VTIMEZONE
BEGIN:VEVENT
DTSTART;TZID=America/Los_Angeles:20181105T190000
DTEND;TZID=America/Los_Angeles:20181105T210000
DTSTAMP:20260425T144045
CREATED:20181101T131607Z
LAST-MODIFIED:20200607T024801Z
UID:4348-1541444400-1541451600@www.northseattlecoops.org
SUMMARY:Kindergarten Readiness Lecture
DESCRIPTION:Do you have questions regarding your child’s readiness for kindergarten? \nJoin us to learn and discuss kindergarten readiness with our panel of experienced kindergarten teachers\, parents\, and NSC Parent Educators. \nDetails here: Kindergarten Readiness Lecture
URL:https://www.northseattlecoops.org/event/kindergarten-readiness-lecture/
LOCATION:Faith Lutheran Church\, Social Hall\, 8208 18th Ave NE\, Seattle\, WA\, 98115\, United States
CATEGORIES:Lecture
END:VEVENT
END:VCALENDAR