BEGIN:VCALENDAR
VERSION:2.0
PRODID:-//North Seattle Cooperative Preschools - ECPv6.15.17.1//NONSGML v1.0//EN
CALSCALE:GREGORIAN
METHOD:PUBLISH
X-ORIGINAL-URL:https://www.northseattlecoops.org
X-WR-CALDESC:Events for North Seattle Cooperative Preschools
REFRESH-INTERVAL;VALUE=DURATION:PT1H
X-Robots-Tag:noindex
X-PUBLISHED-TTL:PT1H
BEGIN:VTIMEZONE
TZID:America/Los_Angeles
BEGIN:DAYLIGHT
TZOFFSETFROM:-0800
TZOFFSETTO:-0700
TZNAME:PDT
DTSTART:20180311T100000
END:DAYLIGHT
BEGIN:STANDARD
TZOFFSETFROM:-0700
TZOFFSETTO:-0800
TZNAME:PST
DTSTART:20181104T090000
END:STANDARD
BEGIN:DAYLIGHT
TZOFFSETFROM:-0800
TZOFFSETTO:-0700
TZNAME:PDT
DTSTART:20190310T100000
END:DAYLIGHT
BEGIN:STANDARD
TZOFFSETFROM:-0700
TZOFFSETTO:-0800
TZNAME:PST
DTSTART:20191103T090000
END:STANDARD
BEGIN:DAYLIGHT
TZOFFSETFROM:-0800
TZOFFSETTO:-0700
TZNAME:PDT
DTSTART:20200308T100000
END:DAYLIGHT
BEGIN:STANDARD
TZOFFSETFROM:-0700
TZOFFSETTO:-0800
TZNAME:PST
DTSTART:20201101T090000
END:STANDARD
END:VTIMEZONE
BEGIN:VEVENT
DTSTART;TZID=America/Los_Angeles:20190401T200000
DTEND;TZID=America/Los_Angeles:20190401T220000
DTSTAMP:20260425T060823
CREATED:20190305T062410Z
LAST-MODIFIED:20200606T115621Z
UID:4637-1554148800-1554156000@www.northseattlecoops.org
SUMMARY:Bonnie Rough of Beyond Birds and Bees\, Monday April 1\, 7-9 pm
DESCRIPTION:Bonnie Rough of Beyond Birds and Bees\nMonday April 1\, 7-9 pm\nThe spring PAC lecture will feature Bonnie Rough of Beyond Birds and Bees.\nBonnie J. Rough is an author\, journalist\, and speaker focusing on families\, health\, education\, parenting and sexuality. Her latest book is Beyond Birds & Bees: Bringing Home a New Message to Our Kids about Sex\, Love\, and Equality\, described as a “a groundbreaking inquiry into how we teach our children about bodies\, sex\, relationships\, and equality—with revelatory\, practical takeaways from the world-famous Dutch approach.”
URL:https://www.northseattlecoops.org/event/bonnie-rough-of-beyond-birds-and-bees-monday-april-1-7-9-pm/
LOCATION:Faith Lutheran Church\, 8208 18th Ave NE\, Seattle\, WA\, 98115\, United States
CATEGORIES:Lecture
END:VEVENT
END:VCALENDAR