BEGIN:VCALENDAR
VERSION:2.0
PRODID:-//North Seattle Cooperative Preschools - ECPv6.15.17.1//NONSGML v1.0//EN
CALSCALE:GREGORIAN
METHOD:PUBLISH
X-ORIGINAL-URL:https://www.northseattlecoops.org
X-WR-CALDESC:Events for North Seattle Cooperative Preschools
REFRESH-INTERVAL;VALUE=DURATION:PT1H
X-Robots-Tag:noindex
X-PUBLISHED-TTL:PT1H
BEGIN:VTIMEZONE
TZID:America/Los_Angeles
BEGIN:DAYLIGHT
TZOFFSETFROM:-0800
TZOFFSETTO:-0700
TZNAME:PDT
DTSTART:20180311T100000
END:DAYLIGHT
BEGIN:STANDARD
TZOFFSETFROM:-0700
TZOFFSETTO:-0800
TZNAME:PST
DTSTART:20181104T090000
END:STANDARD
BEGIN:DAYLIGHT
TZOFFSETFROM:-0800
TZOFFSETTO:-0700
TZNAME:PDT
DTSTART:20190310T100000
END:DAYLIGHT
BEGIN:STANDARD
TZOFFSETFROM:-0700
TZOFFSETTO:-0800
TZNAME:PST
DTSTART:20191103T090000
END:STANDARD
BEGIN:DAYLIGHT
TZOFFSETFROM:-0800
TZOFFSETTO:-0700
TZNAME:PDT
DTSTART:20200308T100000
END:DAYLIGHT
BEGIN:STANDARD
TZOFFSETFROM:-0700
TZOFFSETTO:-0800
TZNAME:PST
DTSTART:20201101T090000
END:STANDARD
END:VTIMEZONE
BEGIN:VEVENT
DTSTART;TZID=America/Los_Angeles:20191118T190000
DTEND;TZID=America/Los_Angeles:20191118T210000
DTSTAMP:20260424T173823
CREATED:20190923T220822Z
LAST-MODIFIED:20191002T214344Z
UID:4835-1574103600-1574110800@www.northseattlecoops.org
SUMMARY:Free Fall Lecture Monday\, Nov. 18
DESCRIPTION:The Parent Advisory Council’s Fall lecture will feature Aidan Key\, founder of Gender Diversity\, an organization dedicated to providing educational services with respect and inclusion of transgender and gender-diverse children. \nIncreased familiarity with terminology and concepts related to transgender and gender nonconforming students of all ages. A clarifying delineation between gender idenity and gender expression as it relates to and is distinctive from biological sex and sexual orientation. Increased confidence and tools for having age-appropriate conversations about gender diversity with students of all ages\, and ability to knowledgeably discuss the topic of gender diversity with all parents and interested parties within the school community. Comprehension of legal and logistical responsibilities of schools and how to implement them with the greatest eas. \nCome hungry with cash! Yummy savory and sweet goods will be available for purchase with proceeds supporting scholarships for the North Seattle College Cooperative Preschools!
URL:https://www.northseattlecoops.org/event/free-lecture-monday-nov-18/
LOCATION:Crown Hill Explorers Cooperative Preschool\, 2400 NW 85th St\, Seattle\, WA\, 98117\, United States
CATEGORIES:Lecture
ATTACH;FMTTYPE=image/jpeg:https://www.northseattlecoops.org/wp-content/uploads/2019/09/2019-11-18-PAC-Lecture_Aidan-Key.jpg
END:VEVENT
END:VCALENDAR