BEGIN:VCALENDAR
VERSION:2.0
PRODID:-//North Seattle Cooperative Preschools - ECPv6.15.17.1//NONSGML v1.0//EN
CALSCALE:GREGORIAN
METHOD:PUBLISH
X-WR-CALNAME:North Seattle Cooperative Preschools
X-ORIGINAL-URL:https://www.northseattlecoops.org
X-WR-CALDESC:Events for North Seattle Cooperative Preschools
REFRESH-INTERVAL;VALUE=DURATION:PT1H
X-Robots-Tag:noindex
X-PUBLISHED-TTL:PT1H
BEGIN:VTIMEZONE
TZID:America/Los_Angeles
BEGIN:DAYLIGHT
TZOFFSETFROM:-0800
TZOFFSETTO:-0700
TZNAME:PDT
DTSTART:20190310T100000
END:DAYLIGHT
BEGIN:STANDARD
TZOFFSETFROM:-0700
TZOFFSETTO:-0800
TZNAME:PST
DTSTART:20191103T090000
END:STANDARD
BEGIN:DAYLIGHT
TZOFFSETFROM:-0800
TZOFFSETTO:-0700
TZNAME:PDT
DTSTART:20200308T100000
END:DAYLIGHT
BEGIN:STANDARD
TZOFFSETFROM:-0700
TZOFFSETTO:-0800
TZNAME:PST
DTSTART:20201101T090000
END:STANDARD
BEGIN:DAYLIGHT
TZOFFSETFROM:-0800
TZOFFSETTO:-0700
TZNAME:PDT
DTSTART:20210314T100000
END:DAYLIGHT
BEGIN:STANDARD
TZOFFSETFROM:-0700
TZOFFSETTO:-0800
TZNAME:PST
DTSTART:20211107T090000
END:STANDARD
END:VTIMEZONE
BEGIN:VEVENT
DTSTART;TZID=America/Los_Angeles:20200406T200000
DTEND;TZID=America/Los_Angeles:20200406T220000
DTSTAMP:20260424T085121
CREATED:20200308T003807Z
LAST-MODIFIED:20200316T033032Z
UID:5221-1586203200-1586210400@www.northseattlecoops.org
SUMMARY:Cancelled - Spring Free Lecture with Tom Hobson | Speaking With Children So They Can Think
DESCRIPTION:This event is cancelled due to the local spread of COVID-19\n  \nThe Parent Advisory Council will host a free winter lecture featuring Tom “Teacher Tom\,” a preschool teacher\, writer\, speaker\, artist\, and author\, about Speaking With Children So They Can Think. \nIn a very real sense\, the language we use creates reality. Tom speaks on how the specific words we use\,\nand how and when we use them\, shapes reality for our students for both good and bad. Participants will have\nthe opportunity to learn about the importance of: being clear and precise with language; honoring children\nwithout commanding or bossing them; using words to create a world of facts and intrinsic motivation; creating\nspace in which children must do their own thinking and make their own decisions; and supporting children as\nthey learn from the natural consequences of their behaviors. \nTom is best known\, however\, for his namesake blog “Teacher Tom’s Blog\,” where he has posted daily for nearly a decade\, chronicling the life and times of his little preschool in the rain soaked Pacific Northwest corner of the US. For nearly two decades Teacher Tom was the sole employee of the Woodland Park Cooperative School. Tom travels around the world (Greece\, Iceland\, Australia\, China\, Vietnam\, New Zealand\, Canada\, UK\, and across the US) sharing his views on early childhood education\, play\, and pedagogy. He recently authored his first book\, aptly named “Teacher Tom’s First Book”. His second book will be released in March. \nCome hungry with cash! Yummy savory and sweet goods will be available for purchase with proceeds supporting scholarships for the North Seattle College Cooperative Preschools!
URL:https://www.northseattlecoops.org/event/spring-free-lecture-with-tom-hobson-speaking-with-children-so-they-can-think/
LOCATION:Faith Lutheran Church\, Social Hall\, 8208 18th Ave NE\, Seattle\, WA\, 98115\, United States
CATEGORIES:Lecture
ATTACH;FMTTYPE=image/jpeg:https://www.northseattlecoops.org/wp-content/uploads/2020/03/Teacher-Tom.jpg
END:VEVENT
BEGIN:VEVENT
DTSTART;TZID=America/Los_Angeles:20200421T200000
DTEND;TZID=America/Los_Angeles:20200421T220000
DTSTAMP:20260424T085121
CREATED:20200414T020454Z
LAST-MODIFIED:20200414T020454Z
UID:5371-1587499200-1587506400@www.northseattlecoops.org
SUMMARY:Virtual Lecture with Betty Peralta | Staying Connected in Conflict During COVID
DESCRIPTION:Plan to join families in our community at the online “Staying Connected in Conflict During COVID” lecture with Betty Peralta on Tuesday\, April 21\, 7-9 p.m. \nConnecting in conflict tools protect you from power struggles and turn you into an ally for problem solving\, while helping children deal with trauma & stress\, and building their abilities to self-calm. Much needed skills during these trying times! \nThis lecture is *free* and is a benefit to support the North Seattle College Parent Cooperative Preschools’ Parent Advisory Council’s COVID-19 Relief Fund. \nSuggested donation is $50-100 and any amount is welcomed!
URL:https://www.northseattlecoops.org/event/virtual-lecture-with-betty-peralta-staying-connected-in-conflict-during-covid/
CATEGORIES:Lecture
END:VEVENT
END:VCALENDAR