BEGIN:VCALENDAR
VERSION:2.0
PRODID:-//North Seattle Cooperative Preschools - ECPv6.15.17.1//NONSGML v1.0//EN
CALSCALE:GREGORIAN
METHOD:PUBLISH
X-ORIGINAL-URL:https://www.northseattlecoops.org
X-WR-CALDESC:Events for North Seattle Cooperative Preschools
REFRESH-INTERVAL;VALUE=DURATION:PT1H
X-Robots-Tag:noindex
X-PUBLISHED-TTL:PT1H
BEGIN:VTIMEZONE
TZID:America/Los_Angeles
BEGIN:DAYLIGHT
TZOFFSETFROM:-0800
TZOFFSETTO:-0700
TZNAME:PDT
DTSTART:20200308T100000
END:DAYLIGHT
BEGIN:STANDARD
TZOFFSETFROM:-0700
TZOFFSETTO:-0800
TZNAME:PST
DTSTART:20201101T090000
END:STANDARD
BEGIN:DAYLIGHT
TZOFFSETFROM:-0800
TZOFFSETTO:-0700
TZNAME:PDT
DTSTART:20210314T100000
END:DAYLIGHT
BEGIN:STANDARD
TZOFFSETFROM:-0700
TZOFFSETTO:-0800
TZNAME:PST
DTSTART:20211107T090000
END:STANDARD
BEGIN:DAYLIGHT
TZOFFSETFROM:-0800
TZOFFSETTO:-0700
TZNAME:PDT
DTSTART:20220313T100000
END:DAYLIGHT
BEGIN:STANDARD
TZOFFSETFROM:-0700
TZOFFSETTO:-0800
TZNAME:PST
DTSTART:20221106T090000
END:STANDARD
END:VTIMEZONE
BEGIN:VEVENT
DTSTART;TZID=America/Los_Angeles:20210206T163000
DTEND;TZID=America/Los_Angeles:20210206T163000
DTSTAMP:20260423T153920
CREATED:20210127T200456Z
LAST-MODIFIED:20210127T201822Z
UID:6140-1612629000-1612629000@www.northseattlecoops.org
SUMMARY:Anti-bias Speaker Series: Gender Identity and Inclusion
DESCRIPTION:Conscious Parenting: Teaching Young Children Diversity\, Inclusion and Equity\nMPCP is hosting this three part\, anti-bias speaker series in an effort to provide a forum for education and discussion for parents of young children as well as anyone hoping to better understand or advocate for members of their community. \n\nWHEN: February\, March and April (see below for date/time details)\nWHO: This series is open to anyone interested in the topics being covered.\nWHERE: Zoom Video Conferencing\nCOST: FREE\n\n\n\n\nGender Identity and Inclusion\nFebruary 6\, 2021 @ 4:30 pm \nJo Langford\, M.A. \nMaster’s-level therapist and sex educator for tweens\, teens and parents \nWhen it comes to gender identity and sexual orientation\, ideas about what it means to be a girl or a boy are everywhere\, and these ideas have a big influence on our preschoolers. Jo Langford is coming to share with our community: how teach our kids that their gender doesn’t limit them; how to talk about different kinds of families; and best practices for parents of kids who are (or could be LGBTQ). \nSee Madison Park Co-op’s website for full details.
URL:https://www.northseattlecoops.org/event/anti-bias-speaker-series-gender-identity-and-inclusion/
CATEGORIES:Lecture
END:VEVENT
BEGIN:VEVENT
DTSTART;TZID=America/Los_Angeles:20210225T190000
DTEND;TZID=America/Los_Angeles:20210225T203000
DTSTAMP:20260423T153920
CREATED:20210119T190333Z
LAST-MODIFIED:20210211T204545Z
UID:5925-1614279600-1614285000@www.northseattlecoops.org
SUMMARY:Speaker: Relationship Balancing Act: Me\, We\, Family & COVID
DESCRIPTION: 
URL:https://www.northseattlecoops.org/event/speaker-relationship-balancing-act-me-we-family-covid/
CATEGORIES:Lecture
END:VEVENT
END:VCALENDAR