BEGIN:VCALENDAR
VERSION:2.0
PRODID:-//North Seattle Cooperative Preschools - ECPv6.15.17.1//NONSGML v1.0//EN
CALSCALE:GREGORIAN
METHOD:PUBLISH
X-ORIGINAL-URL:https://www.northseattlecoops.org
X-WR-CALDESC:Events for North Seattle Cooperative Preschools
REFRESH-INTERVAL;VALUE=DURATION:PT1H
X-Robots-Tag:noindex
X-PUBLISHED-TTL:PT1H
BEGIN:VTIMEZONE
TZID:America/Los_Angeles
BEGIN:DAYLIGHT
TZOFFSETFROM:-0800
TZOFFSETTO:-0700
TZNAME:PDT
DTSTART:20200308T100000
END:DAYLIGHT
BEGIN:STANDARD
TZOFFSETFROM:-0700
TZOFFSETTO:-0800
TZNAME:PST
DTSTART:20201101T090000
END:STANDARD
BEGIN:DAYLIGHT
TZOFFSETFROM:-0800
TZOFFSETTO:-0700
TZNAME:PDT
DTSTART:20210314T100000
END:DAYLIGHT
BEGIN:STANDARD
TZOFFSETFROM:-0700
TZOFFSETTO:-0800
TZNAME:PST
DTSTART:20211107T090000
END:STANDARD
BEGIN:DAYLIGHT
TZOFFSETFROM:-0800
TZOFFSETTO:-0700
TZNAME:PDT
DTSTART:20220313T100000
END:DAYLIGHT
BEGIN:STANDARD
TZOFFSETFROM:-0700
TZOFFSETTO:-0800
TZNAME:PST
DTSTART:20221106T090000
END:STANDARD
END:VTIMEZONE
BEGIN:VEVENT
DTSTART;TZID=America/Los_Angeles:20210306T163000
DTEND;TZID=America/Los_Angeles:20210306T163000
DTSTAMP:20260423T112431
CREATED:20210127T201033Z
LAST-MODIFIED:20210127T201122Z
UID:6145-1615048200-1615048200@www.northseattlecoops.org
SUMMARY:Anti-bias Speaker Series: Talking to Kids about Disabilities
DESCRIPTION:Conscious Parenting: Teaching Young Children Diversity\, Inclusion and Equity\nMPCP is hosting this three part\, anti-bias speaker series in an effort to provide a forum for education and discussion for parents of young children as well as anyone hoping to better understand or advocate for members of their community. \n\nWHEN: February\, March and April (see below for date/time details)\nWHO: This series is open to anyone interested in the topics being covered.\nWHERE: Zoom Video Conferencing\nCOST: FREE\n\n\n\nTalking to Kids about Disabilities\nMarch 6\, 2021 @ 4:30 pm\nHannah Gallagher\, M.Ed. \nInclusive Programs Director and Preschool Teacher\, Seattle Children’s PlayGarden \nHannah is an environmental educator from Seattle\, WA. She has a Master’s degree in Education and non-profit management from the University of Washington and has worked with children of all abilities and ages in engaging in outdoor play for the last thirteen years at the PlayGarden. She is passionate about making environmental education inclusive for all\, building a more sustainable and just food systems\, and fostering resilient communities. \nSee Madison Park Co-op’s website for full details
URL:https://www.northseattlecoops.org/event/anti-bias-speaker-series-talking-to-kids-about-disabilities/
CATEGORIES:Lecture
END:VEVENT
END:VCALENDAR