BEGIN:VCALENDAR
VERSION:2.0
PRODID:-//North Seattle Cooperative Preschools - ECPv6.15.17.1//NONSGML v1.0//EN
CALSCALE:GREGORIAN
METHOD:PUBLISH
X-WR-CALNAME:North Seattle Cooperative Preschools
X-ORIGINAL-URL:https://www.northseattlecoops.org
X-WR-CALDESC:Events for North Seattle Cooperative Preschools
REFRESH-INTERVAL;VALUE=DURATION:PT1H
X-Robots-Tag:noindex
X-PUBLISHED-TTL:PT1H
BEGIN:VTIMEZONE
TZID:America/Los_Angeles
BEGIN:DAYLIGHT
TZOFFSETFROM:-0800
TZOFFSETTO:-0700
TZNAME:PDT
DTSTART:20200308T100000
END:DAYLIGHT
BEGIN:STANDARD
TZOFFSETFROM:-0700
TZOFFSETTO:-0800
TZNAME:PST
DTSTART:20201101T090000
END:STANDARD
BEGIN:DAYLIGHT
TZOFFSETFROM:-0800
TZOFFSETTO:-0700
TZNAME:PDT
DTSTART:20210314T100000
END:DAYLIGHT
BEGIN:STANDARD
TZOFFSETFROM:-0700
TZOFFSETTO:-0800
TZNAME:PST
DTSTART:20211107T090000
END:STANDARD
BEGIN:DAYLIGHT
TZOFFSETFROM:-0800
TZOFFSETTO:-0700
TZNAME:PDT
DTSTART:20220313T100000
END:DAYLIGHT
BEGIN:STANDARD
TZOFFSETFROM:-0700
TZOFFSETTO:-0800
TZNAME:PST
DTSTART:20221106T090000
END:STANDARD
END:VTIMEZONE
BEGIN:VEVENT
DTSTART;TZID=America/Los_Angeles:20210403T163000
DTEND;TZID=America/Los_Angeles:20210403T180000
DTSTAMP:20260423T074920
CREATED:20210127T201717Z
LAST-MODIFIED:20210312T034503Z
UID:6152-1617467400-1617472800@www.northseattlecoops.org
SUMMARY:Anti-Bias Speaker Series: Conversations with Children: Let’s Talk About Race and Racism
DESCRIPTION:Conscious Parenting: Teaching Young Children Diversity\, Inclusion and Equity\nMPCP is hosting this three part\, anti-bias speaker series in an effort to provide a forum for education and discussion for parents of young children as well as anyone hoping to better understand or advocate for members of their community. \n\nWHEN: February\, March and April (see below for date/time details)\nWHO: This series is open to anyone interested in the topics being covered.\nWHERE: Zoom Video Conferencing\nCOST: FREE\n\nConversations with Children: Let’s Talk About Race and Racism\nApril 3\, 2021 @ 4:30 pm\nJamie Cho\, Ph.D.\nParent educator at two Seattle-based cooperative preschools \nJamie Cho is a parent educator at two cooperative preschools through Seattle Central College and Bellevue College. She holds a Ph.D. in special education from U.C. Berkeley and her research has focused on cultural beliefs around parenting. Jamie has worked previously as an early interventionist with young children with autism spectrum disorders as well as served as an educational researcher at UCLA and teacher educator at California State Universities. She lives in Bellevue WA with her husband and three children\, ages 12\, 10 and 7. \nThis conversation will center race and how to talk with children and answer their questions about racial differences and racism. Children’s understanding of racial categories develop early and are influenced by the narratives offered by the adults in their lives. It is vital that adults are having conversations with children as they try to make sense of what they are observing in their family\, neighborhoods\, schools\, and communities. Through these conversations\, families have the power to raise a generation of critical thinkers who strive for social justice and equity. \nSee Madison Park Co-op’s website for full details.
URL:https://www.northseattlecoops.org/event/anti-bias-speaker-series-conversations-with-children-lets-talk-about-race-and-racism/
CATEGORIES:Lecture
END:VEVENT
END:VCALENDAR