BEGIN:VCALENDAR
VERSION:2.0
PRODID:-//North Seattle Cooperative Preschools - ECPv6.15.17.1//NONSGML v1.0//EN
CALSCALE:GREGORIAN
METHOD:PUBLISH
X-WR-CALNAME:North Seattle Cooperative Preschools
X-ORIGINAL-URL:https://www.northseattlecoops.org
X-WR-CALDESC:Events for North Seattle Cooperative Preschools
REFRESH-INTERVAL;VALUE=DURATION:PT1H
X-Robots-Tag:noindex
X-PUBLISHED-TTL:PT1H
BEGIN:VTIMEZONE
TZID:America/Los_Angeles
BEGIN:DAYLIGHT
TZOFFSETFROM:-0800
TZOFFSETTO:-0700
TZNAME:PDT
DTSTART:20200308T100000
END:DAYLIGHT
BEGIN:STANDARD
TZOFFSETFROM:-0700
TZOFFSETTO:-0800
TZNAME:PST
DTSTART:20201101T090000
END:STANDARD
BEGIN:DAYLIGHT
TZOFFSETFROM:-0800
TZOFFSETTO:-0700
TZNAME:PDT
DTSTART:20210314T100000
END:DAYLIGHT
BEGIN:STANDARD
TZOFFSETFROM:-0700
TZOFFSETTO:-0800
TZNAME:PST
DTSTART:20211107T090000
END:STANDARD
BEGIN:DAYLIGHT
TZOFFSETFROM:-0800
TZOFFSETTO:-0700
TZNAME:PDT
DTSTART:20220313T100000
END:DAYLIGHT
BEGIN:STANDARD
TZOFFSETFROM:-0700
TZOFFSETTO:-0800
TZNAME:PST
DTSTART:20221106T090000
END:STANDARD
END:VTIMEZONE
BEGIN:VEVENT
DTSTART;TZID=America/Los_Angeles:20210506T190000
DTEND;TZID=America/Los_Angeles:20210506T203000
DTSTAMP:20260423T033236
CREATED:20210422T214049Z
LAST-MODIFIED:20210506T171411Z
UID:6472-1620327600-1620333000@www.northseattlecoops.org
SUMMARY:Lecture: After Covid: brain science\, preschoolers\, and the transition to in-person learning
DESCRIPTION:This is a two part lecture. First\, Dr. Marley Jarvis (above) from UW ILABS will be talking about core principles of early brain development and how nurturing relationships with caregivers and other supportive adults help build the brain. \n \n  \n  \n  \n  \n  \n  \n  \n  \n  \nNext\, Stacy Lappin (left) and Jen Giomi (right) from Sound Discipline will talk more about building resilience in our kids and community as well as a trauma responsive school transition. \nRegister to attend. \nFor questions\, please contact kristina.weidert@seattlecolleges.edu. \nThis event is free and open to everyone. For families who are able\, please consider donating to our Co-op COVID Relief Fund/Scholarship Fund so that our co-ops can offer quality programs and support to families during this time of crisis. Donations help keep co-op preschools accessible to people of all socioeconomic levels and help keep co-op preschools going where enrollment is low. \nDonate now \nTHANK YOU to our sponsors.
URL:https://www.northseattlecoops.org/event/lecture-after-covid-brain-science-preschoolers-and-the-transition-to-in-person-learning/
CATEGORIES:Lecture
ATTACH;FMTTYPE=image/jpeg:https://www.northseattlecoops.org/wp-content/uploads/2021/04/marley-jarvis_bio_new.jpg
END:VEVENT
END:VCALENDAR