BEGIN:VCALENDAR
VERSION:2.0
PRODID:-//North Seattle Cooperative Preschools - ECPv6.15.17.1//NONSGML v1.0//EN
CALSCALE:GREGORIAN
METHOD:PUBLISH
X-WR-CALNAME:North Seattle Cooperative Preschools
X-ORIGINAL-URL:https://www.northseattlecoops.org
X-WR-CALDESC:Events for North Seattle Cooperative Preschools
REFRESH-INTERVAL;VALUE=DURATION:PT1H
X-Robots-Tag:noindex
X-PUBLISHED-TTL:PT1H
BEGIN:VTIMEZONE
TZID:America/Los_Angeles
BEGIN:DAYLIGHT
TZOFFSETFROM:-0800
TZOFFSETTO:-0700
TZNAME:PDT
DTSTART:20220313T100000
END:DAYLIGHT
BEGIN:STANDARD
TZOFFSETFROM:-0700
TZOFFSETTO:-0800
TZNAME:PST
DTSTART:20221106T090000
END:STANDARD
BEGIN:DAYLIGHT
TZOFFSETFROM:-0800
TZOFFSETTO:-0700
TZNAME:PDT
DTSTART:20230312T100000
END:DAYLIGHT
BEGIN:STANDARD
TZOFFSETFROM:-0700
TZOFFSETTO:-0800
TZNAME:PST
DTSTART:20231105T090000
END:STANDARD
BEGIN:DAYLIGHT
TZOFFSETFROM:-0800
TZOFFSETTO:-0700
TZNAME:PDT
DTSTART:20240310T100000
END:DAYLIGHT
BEGIN:STANDARD
TZOFFSETFROM:-0700
TZOFFSETTO:-0800
TZNAME:PST
DTSTART:20241103T090000
END:STANDARD
BEGIN:DAYLIGHT
TZOFFSETFROM:-0800
TZOFFSETTO:-0700
TZNAME:PDT
DTSTART:20250309T100000
END:DAYLIGHT
BEGIN:STANDARD
TZOFFSETFROM:-0700
TZOFFSETTO:-0800
TZNAME:PST
DTSTART:20251102T090000
END:STANDARD
BEGIN:DAYLIGHT
TZOFFSETFROM:-0800
TZOFFSETTO:-0700
TZNAME:PDT
DTSTART:20260308T100000
END:DAYLIGHT
BEGIN:STANDARD
TZOFFSETFROM:-0700
TZOFFSETTO:-0800
TZNAME:PST
DTSTART:20261101T090000
END:STANDARD
END:VTIMEZONE
BEGIN:VEVENT
DTSTART;VALUE=DATE:20250201
DTEND;VALUE=DATE:20250202
DTSTAMP:20260420T022942
CREATED:20241205T062732Z
LAST-MODIFIED:20241205T062732Z
UID:8314-1738368000-1738454399@www.northseattlecoops.org
SUMMARY:Madison Park Co-op Preschool Open House
DESCRIPTION:1898 43rd Ave E\, Seattle\, WA 98112 \nTime TBD
URL:https://www.northseattlecoops.org/event/madison-park-co-op-preschool-open-house/
LOCATION:Madison Park Cooperative Preschool\, 1900 43rd Ave E\, Seattle\, WA\, 98112\, United States
END:VEVENT
BEGIN:VEVENT
DTSTART;TZID=America/Los_Angeles:20250125T130000
DTEND;TZID=America/Los_Angeles:20250125T143000
DTSTAMP:20260420T022942
CREATED:20241205T062215Z
LAST-MODIFIED:20241205T065834Z
UID:8323-1737810000-1737815400@www.northseattlecoops.org
SUMMARY:Northleaf Co-op Preschool Open House
DESCRIPTION:Instruction Building\, Rooms 1304 and 1405/1407\, 9600 College Way N\, Seattle\, WA 98103
URL:https://www.northseattlecoops.org/event/northleaf-co-op-preschool-open-house/
LOCATION:Northleaf Campus Cooperative Preschool\, North Seattle College Instructional Building Rooms 1304 and 1405/1407\, Seattle\, WA\, 98103\, United States
CATEGORIES:Open House
END:VEVENT
BEGIN:VEVENT
DTSTART;TZID=America/Los_Angeles:20250125T113000
DTEND;TZID=America/Los_Angeles:20250125T123000
DTSTAMP:20260420T022942
CREATED:20241205T064538Z
LAST-MODIFIED:20241206T053235Z
UID:8357-1737804600-1737808200@www.northseattlecoops.org
SUMMARY:Wedgwood Co-op Preschool Open House
DESCRIPTION:8208 18th Ave NE\, Seattle\, WA 98115
URL:https://www.northseattlecoops.org/event/wedgwood-co-op-preschool-open-house/
LOCATION:Wedgwood Cooperative Preschool\, 8208 18th Ave NE\, Seattle\, WA\, 98115\, United States
CATEGORIES:Open House
END:VEVENT
BEGIN:VEVENT
DTSTART;TZID=America/Los_Angeles:20250125T100000
DTEND;TZID=America/Los_Angeles:20250125T110000
DTSTAMP:20260420T022942
CREATED:20241205T063757Z
LAST-MODIFIED:20241205T063757Z
UID:8345-1737799200-1737802800@www.northseattlecoops.org
SUMMARY:Sandhurst Co-op Preschool Open House
DESCRIPTION:4710 NE 70th St Seattle\, WA 98115
URL:https://www.northseattlecoops.org/event/sandhurst-co-op-preschool-open-house/
LOCATION:Sandhurst Cooperative Preschool\, 4710 NE 70th St\, Seattle\, WA\, 98115\, United States
CATEGORIES:Open House
END:VEVENT
BEGIN:VEVENT
DTSTART;TZID=America/Los_Angeles:20250125T100000
DTEND;TZID=America/Los_Angeles:20250125T100000
DTSTAMP:20260420T022942
CREATED:20250118T222929Z
LAST-MODIFIED:20250118T222929Z
UID:8546-1737799200-1737799200@www.northseattlecoops.org
SUMMARY:Loyal Heights Co-op Preschool Open House
DESCRIPTION:
URL:https://www.northseattlecoops.org/event/loyal-heights-co-op-preschool-open-house-2/
CATEGORIES:Open House
END:VEVENT
BEGIN:VEVENT
DTSTART;TZID=America/Los_Angeles:20250116T190000
DTEND;TZID=America/Los_Angeles:20250116T210000
DTSTAMP:20260420T022942
CREATED:20241205T063138Z
LAST-MODIFIED:20241205T063138Z
UID:8338-1737054000-1737061200@www.northseattlecoops.org
SUMMARY:Rainier Valley Co-op Preschool Open House
DESCRIPTION:6230 Beacon Ave S\, Seattle\, WA 98108
URL:https://www.northseattlecoops.org/event/rainier-valley-co-op-preschool-open-house/
LOCATION:Rainier Valley Cooperative Preschool\, 6230 Beacon Ave S\, Seattle\, 98108\, United States
CATEGORIES:Open House
END:VEVENT
BEGIN:VEVENT
DTSTART;TZID=America/Los_Angeles:20250111T150000
DTEND;TZID=America/Los_Angeles:20250111T170000
DTSTAMP:20260420T022942
CREATED:20241205T064220Z
LAST-MODIFIED:20241205T064220Z
UID:8351-1736607600-1736614800@www.northseattlecoops.org
SUMMARY:Victory Heights Co-op Preschool Open House
DESCRIPTION:1747 NE 106th St\, Seattle\, WA 98125
URL:https://www.northseattlecoops.org/event/victory-heights-co-op-preschool-open-house/
LOCATION:Victory Heights Cooperative Preschool\, 1747 NE 106th St.\, Seattle\, WA\, 98125\, United States
CATEGORIES:Open House
END:VEVENT
BEGIN:VEVENT
DTSTART;TZID=America/Los_Angeles:20250111T103000
DTEND;TZID=America/Los_Angeles:20250111T120000
DTSTAMP:20260420T022942
CREATED:20241205T064725Z
LAST-MODIFIED:20241218T230145Z
UID:8360-1736591400-1736596800@www.northseattlecoops.org
SUMMARY:Woodland Park Co-op School Open House
DESCRIPTION:717 N 36th St\, Seattle\, WA 98103
URL:https://www.northseattlecoops.org/event/woodland-park-co-op-school-open-house/
LOCATION:Woodland Park Cooperative Preschool\, 717 N 36th Street\, Seattle\, WA\, 98103\, United States
CATEGORIES:Open House
END:VEVENT
BEGIN:VEVENT
DTSTART;TZID=America/Los_Angeles:20250111T100000
DTEND;TZID=America/Los_Angeles:20250111T110000
DTSTAMP:20260420T022942
CREATED:20241205T062007Z
LAST-MODIFIED:20241205T065640Z
UID:8319-1736589600-1736593200@www.northseattlecoops.org
SUMMARY:Meadowbrook Co-op Preschool Open House
DESCRIPTION:1933 NE 125th St\, Seattle\, WA 9812
URL:https://www.northseattlecoops.org/event/meadowbrook-co-op-preschool-open-house/
LOCATION:Meadowbrook Cooperative Preschool\, 1933 NE 125th Street\, Seattle\, WA\, 98125\, United States
CATEGORIES:Open House
ORGANIZER;CN="Meadowbrook Cooperative Preschool":MAILTO:meadowbrookinfo@gmail.com
END:VEVENT
BEGIN:VEVENT
DTSTART;VALUE=DATE:20250105
DTEND;VALUE=DATE:20250106
DTSTAMP:20260420T022942
CREATED:20241205T062849Z
LAST-MODIFIED:20241205T062849Z
UID:8307-1736035200-1736121599@www.northseattlecoops.org
SUMMARY:Crown Hill Preschool Open House
DESCRIPTION:2400 NW 85th St\, Seattle\, WA 98117 \nTime TBD
URL:https://www.northseattlecoops.org/event/crown-hill-preschool-open-house/
LOCATION:Crown Hill 3-5s Cooperative Preschool\, 7706 25th Ave NW\, Seattle\, WA\, 98117\, United States
END:VEVENT
BEGIN:VEVENT
DTSTART;TZID=America/Los_Angeles:20241208T090000
DTEND;TZID=America/Los_Angeles:20241215T233000
DTSTAMP:20260420T022942
CREATED:20241207T212036Z
LAST-MODIFIED:20241207T214222Z
UID:8416-1733648400-1734305400@www.northseattlecoops.org
SUMMARY:2024 Winter Fundraiser Auction!
DESCRIPTION:Our Auction runs from 12/8 at 9 AM until 12/15 at 11:45 PM.  \nThe NSC Cooperative Preschools Parent Advisory Council has a scholarship fund. We are asking for your support\, as some of our enrolled families could not participate in school if they did not receive financial assistance. A consistent tuition stream allows us to continue paying our teachers\, who consistently are providing educational experiences. \nPlease consider helping the NSC Cooperative Preschool Program through the Auction!
URL:https://www.northseattlecoops.org/event/winter-fundraiser-auction/
END:VEVENT
BEGIN:VEVENT
DTSTART;TZID=America/Los_Angeles:20240511T100000
DTEND;TZID=America/Los_Angeles:20240511T113000
DTSTAMP:20260420T022942
CREATED:20240419T210732Z
LAST-MODIFIED:20240419T210732Z
UID:8131-1715421600-1715427000@www.northseattlecoops.org
SUMMARY:Meadowbrook Co-op Open House
DESCRIPTION:
URL:https://www.northseattlecoops.org/event/meadowbrook-co-op-open-house/
LOCATION:Meadowbrook Cooperative Preschool\, 1933 NE 125th Street\, Seattle\, WA\, 98125\, United States
CATEGORIES:Open House
END:VEVENT
BEGIN:VEVENT
DTSTART;TZID=America/Los_Angeles:20240507T160000
DTEND;TZID=America/Los_Angeles:20240507T180000
DTSTAMP:20260420T022942
CREATED:20240501T225440Z
LAST-MODIFIED:20240501T225600Z
UID:8175-1715097600-1715104800@www.northseattlecoops.org
SUMMARY:Victory Heights Cooperative Preschool Open House
DESCRIPTION:Meet our teachers\, tour our school\, and ask current families questions at our Open House! We will have play stations set up for kids so bring the whole family. We have classes for kids ages 1 -5 and scholarships available. Currently accepting students for the 2024-2025 school year.
URL:https://www.northseattlecoops.org/event/victory-heights-cooperative-preschool-open-house/
LOCATION:Victory Heights Cooperative Preschool\, 1747 NE 106th St.\, Seattle\, WA\, 98125\, United States
CATEGORIES:Open House
END:VEVENT
BEGIN:VEVENT
DTSTART;TZID=America/Los_Angeles:20240430T190000
DTEND;TZID=America/Los_Angeles:20240430T203000
DTSTAMP:20260420T022942
CREATED:20240312T022916Z
LAST-MODIFIED:20240429T211007Z
UID:8033-1714503600-1714509000@www.northseattlecoops.org
SUMMARY:Lecture: Nutrition and Healthy Eating Habits for Young Children
DESCRIPTION:Register here!\nCairo Archer\, MS\, RDN\, CD is a Registered Dietitian who is passionate about providing culturally relevant\, weight neutral nutrition care and education \n“Nutrition and Healthy Eating Habits for Young Children” \nSubmit your questions to Cairo by April 26th at  nsc-pac-education@googlegroups.com \nApril 30\, 2024 \n7-8:30pm on Zoom \n  \nCairo Archer\, MS\, RDN\, CD es un dietista registrado apasionado por brindar atención y educación nutricional culturalmente relevante y neutral en cuanto al peso. \n“Nutrición y hábitos alimentarios saludables para los niños pequeños” \nEnvíe sus preguntas a la Cairo antes del 26 de abril a nsc-pac-education@googlegroups.com \n30 de abril de 2024 \n7-8:30 p.m. en Zoom \n  \n \nCairo Archer\, MS\, RDN\, CD \nRegistered Dietitian \nPublic Health Seattle and King County\, Family Ways Program\n \n  \nCairo Archer\, MS\, RDN\, CD is a Registered Dietitian who has experience providing nutrition care to individuals throughout the life course in acute\, long-term\, and community care settings. Cairo currently works for Public Health Seattle and King County\, supporting families with children five and under through her work with the Family Ways Program\, a pregnancy and parenting support program for African American\, Native American/Alaska Native\, and Native Hawaiian/Pacific Islander families living in King County. Her passion is to provide culturally relevant\, weight neutral nutrition care and education to help clients feel confident about navigating nutritional transitions as children grow\, finding joy in feeding themselves and their families\, and accessing food and nutrition resources in community. \n  \nThank you to our sponsors!!\n \n \n \n  \n \n  \n \n 
URL:https://www.northseattlecoops.org/event/lecture-nutrition-and-healthy-eating-habits-for-young-children/
CATEGORIES:Lecture
END:VEVENT
BEGIN:VEVENT
DTSTART;TZID=America/Los_Angeles:20240422T163000
DTEND;TZID=America/Los_Angeles:20240422T183000
DTSTAMP:20260420T022942
CREATED:20240402T024325Z
LAST-MODIFIED:20240402T024644Z
UID:8061-1713803400-1713810600@www.northseattlecoops.org
SUMMARY:Woodland Park Cooperate Preschool Open House
DESCRIPTION:
URL:https://www.northseattlecoops.org/event/woodland-park-cooperate-preschool-open-house/
CATEGORIES:Open House
END:VEVENT
BEGIN:VEVENT
DTSTART;TZID=America/Los_Angeles:20240210T100000
DTEND;TZID=America/Los_Angeles:20240210T120000
DTSTAMP:20260420T022942
CREATED:20240104T142635Z
LAST-MODIFIED:20240104T142635Z
UID:7918-1707559200-1707566400@www.northseattlecoops.org
SUMMARY:Rainier Valley Co-op Open House
DESCRIPTION:Our community will come together to welcome families interested in learning about our preschool for the 2024-2025 school year. The Open Houses will take place in-person in our classroom. \nMeet our teachers\nOur three wonderful teachers will be there to share their teaching philosophy\, walk through a typical class day\, and answer all your questions about our social-emotional\, play-based focus. \nConnect with our community\nYou’ll get to chat with parents from our current and alumni families about their cooperative preschool experiences and why they chose RVCP.  \nTour our classroom\nAll are welcome\, children and their caregivers! Come explore and see how we use our classroom to learn and play.  \nWe hope you’ll join us and look forward to meeting you soon! \nMasks are optional. If you have any questions\, please feel free to contact our Enrollment team at enrollment@rainiervalleycooppreschool.org.
URL:https://www.northseattlecoops.org/event/rainier-valley-co-op-open-house-2/
LOCATION:Rainier Valley Cooperative Preschool\, 6230 Beacon Ave S\, Seattle\, 98108\, United States
CATEGORIES:Open House
END:VEVENT
BEGIN:VEVENT
DTSTART;TZID=America/Los_Angeles:20240206T190000
DTEND;TZID=America/Los_Angeles:20240206T200000
DTSTAMP:20260420T022942
CREATED:20240105T210956Z
LAST-MODIFIED:20240105T210956Z
UID:7940-1707246000-1707249600@www.northseattlecoops.org
SUMMARY:Lakewood Cooperative Preschool
DESCRIPTION:
URL:https://www.northseattlecoops.org/event/lakewood-cooperative-preschool/
LOCATION:Lakewood Cooperative Preschool\, 5005 S Ferdinand Street\, Seattle\, 98118\, United States
CATEGORIES:Open House
END:VEVENT
BEGIN:VEVENT
DTSTART;TZID=America/Los_Angeles:20240203T120000
DTEND;TZID=America/Los_Angeles:20240203T130000
DTSTAMP:20260420T022942
CREATED:20240117T184053Z
LAST-MODIFIED:20240118T174556Z
UID:8023-1706961600-1706965200@www.northseattlecoops.org
SUMMARY:Meadowbrook Cooperative Preschool Open House
DESCRIPTION:
URL:https://www.northseattlecoops.org/event/meadowbrook-cooperative-preschool-open-house-3/
LOCATION:Meadowbrook Cooperative Preschool\, 1933 NE 125th Street\, Seattle\, WA\, 98125\, United States
CATEGORIES:Open House
END:VEVENT
BEGIN:VEVENT
DTSTART;TZID=America/Los_Angeles:20240203T100000
DTEND;TZID=America/Los_Angeles:20240203T120000
DTSTAMP:20260420T022942
CREATED:20240104T170827Z
LAST-MODIFIED:20240104T170827Z
UID:7926-1706954400-1706961600@www.northseattlecoops.org
SUMMARY:NSC Co-op Preschools Registration Fair
DESCRIPTION:
URL:https://www.northseattlecoops.org/event/nsc-co-op-preschools-registration-fair/
CATEGORIES:Preschool Fair,Registration
END:VEVENT
BEGIN:VEVENT
DTSTART;TZID=America/Los_Angeles:20240203T100000
DTEND;TZID=America/Los_Angeles:20240203T113000
DTSTAMP:20260420T022942
CREATED:20240104T171436Z
LAST-MODIFIED:20240104T171436Z
UID:7930-1706954400-1706959800@www.northseattlecoops.org
SUMMARY:Madison Park Cooperative Preschool Open House
DESCRIPTION:
URL:https://www.northseattlecoops.org/event/madison-park-cooperative-preschool-open-house/
LOCATION:Madison Park Cooperative Preschool\, 1900 43rd Ave E\, Seattle\, WA\, 98112\, United States
CATEGORIES:Open House
END:VEVENT
BEGIN:VEVENT
DTSTART;TZID=America/Los_Angeles:20240130T190000
DTEND;TZID=America/Los_Angeles:20240130T203000
DTSTAMP:20260420T022942
CREATED:20231116T214141Z
LAST-MODIFIED:20240104T145015Z
UID:7805-1706641200-1706646600@www.northseattlecoops.org
SUMMARY:The Birds and the Bees for Parents of Preschoolers
DESCRIPTION:Title: The birds and the bees for parents of preschoolers\nWho: Amy Lang\, MA\nWhat: Award-winning author and speaker Amy Lang helps parents of all beliefs turn conversations they dread into a regular (and fun) part of their family lives.\nWhen/where: January 30\, 7-8:30 PT (via Zoom)
URL:https://www.northseattlecoops.org/event/the-birds-and-the-bees-for-parents-of-preschoolers/
LOCATION:Online
CATEGORIES:Lecture
END:VEVENT
BEGIN:VEVENT
DTSTART;TZID=America/Los_Angeles:20240127T140000
DTEND;TZID=America/Los_Angeles:20240127T160000
DTSTAMP:20260420T022942
CREATED:20240104T183517Z
LAST-MODIFIED:20240104T183517Z
UID:7932-1706364000-1706371200@www.northseattlecoops.org
SUMMARY:Victory Heights Coop Open House
DESCRIPTION:
URL:https://www.northseattlecoops.org/event/victory-heights-coop-open-house/
LOCATION:Victory Heights Cooperative Preschool\, 1747 NE 106th St.\, Seattle\, WA\, 98125\, United States
CATEGORIES:Open House
END:VEVENT
BEGIN:VEVENT
DTSTART;TZID=America/Los_Angeles:20240127T113000
DTEND;TZID=America/Los_Angeles:20240127T123000
DTSTAMP:20260420T022942
CREATED:20240104T171349Z
LAST-MODIFIED:20240104T171349Z
UID:7928-1706355000-1706358600@www.northseattlecoops.org
SUMMARY:Wedgwood Co-op Open House
DESCRIPTION:
URL:https://www.northseattlecoops.org/event/wedgwood-co-op-open-house-4/
LOCATION:Wedgwood Cooperative Preschool\, 8208 18th Ave NE\, Seattle\, WA\, 98115\, United States
CATEGORIES:Open House
END:VEVENT
BEGIN:VEVENT
DTSTART;TZID=America/Los_Angeles:20240127T103000
DTEND;TZID=America/Los_Angeles:20240127T120000
DTSTAMP:20260420T022942
CREATED:20240111T185208Z
LAST-MODIFIED:20240116T173226Z
UID:7982-1706351400-1706356800@www.northseattlecoops.org
SUMMARY:Woodland Park Cooperative School Open House
DESCRIPTION:January 27th\, 10:30-12:00PM\nWoodland Park Cooperative School\n\n@ Fremont Baptist Church\, 717 N 36th St\, Seattle\, WA 98103 \nParking on the east side of the parking lot available\, plus street parking\nJoin us for preschool and kindergarten open-house fun!\n\n\n\nPlease register here!
URL:https://www.northseattlecoops.org/event/woodland-park-cooperative-school-open-house/
LOCATION:Fremont Bapist Chuch\, 717 N 36th St\, Seattle\, WA\, 98103\, United States
CATEGORIES:Open House
END:VEVENT
BEGIN:VEVENT
DTSTART;TZID=America/Los_Angeles:20240127T100000
DTEND;TZID=America/Los_Angeles:20240127T110000
DTSTAMP:20260420T022942
CREATED:20240104T204510Z
LAST-MODIFIED:20240104T220419Z
UID:7934-1706349600-1706353200@www.northseattlecoops.org
SUMMARY:Sandhurst Co-op Open House
DESCRIPTION:Sandhurst Cooperative Preschool is an independent\, non-profit entity run by skilled preschool teachers\, parents\, and parent educators. Our mission is to provide children with a play-based learning environment where they can discover more about themselves\, the physical world\, and develop social interaction skills with both peers and adults. We offer age-specific classes for children aged 1-2 years\, 2-3 years\, and 3-5 years. Our preschool aligns with the Seattle Public Schools calendar\, and our academic year starts in September and concludes in late May. \nJoin us for our upcoming open house on January 27th\, from 10-11am. Come meet our dedicated teachers\, explore the preschool\, and gain more information about our program. \nContact Us:\ninfo@sandhurstcoop.org
URL:https://www.northseattlecoops.org/event/sandhurst-coop-open-house/
LOCATION:Sandhurst Cooperative Preschool\, 4710 NE 70th St\, Seattle\, WA\, 98115\, United States
CATEGORIES:Open House
END:VEVENT
BEGIN:VEVENT
DTSTART;TZID=America/Los_Angeles:20240120T103000
DTEND;TZID=America/Los_Angeles:20240120T123000
DTSTAMP:20260420T022942
CREATED:20231212T221159Z
LAST-MODIFIED:20231212T221159Z
UID:7870-1705746600-1705753800@www.northseattlecoops.org
SUMMARY:Wallingford Co-Op Preschool Registration Open House
DESCRIPTION:
URL:https://www.northseattlecoops.org/event/wallingford-co-op-preschool-registration-open-house/
LOCATION:Wallingford Cooperative Preschool\, 5019 Keystone Pl N\, Seattle\, WA\, 98103\, United States
END:VEVENT
BEGIN:VEVENT
DTSTART;TZID=America/Los_Angeles:20240104T170000
DTEND;TZID=America/Los_Angeles:20240104T190000
DTSTAMP:20260420T022942
CREATED:20240104T142246Z
LAST-MODIFIED:20240104T142749Z
UID:7914-1704387600-1704394800@www.northseattlecoops.org
SUMMARY:Rainier Valley Co-op Open House
DESCRIPTION:Our community will come together to welcome families interested in learning about our preschool for the 2024-2025 school year. The Open Houses will take place in-person in our classroom. \nMeet our teachers\nOur three wonderful teachers will be there to share their teaching philosophy\, walk through a typical class day\, and answer all your questions about our social-emotional\, play-based focus. \nConnect with our community\nYou’ll get to chat with parents from our current and alumni families about their cooperative preschool experiences and why they chose RVCP.  \nTour our classroom\nAll are welcome\, children and their caregivers! Come explore and see how we use our classroom to learn and play.  \nWe hope you’ll join us and look forward to meeting you soon! \nMasks are optional. If you have any questions\, please feel free to contact our Enrollment team at enrollment@rainiervalleycooppreschool.org.
URL:https://www.northseattlecoops.org/event/rainier-valley-co-op-open-house/
LOCATION:Rainier Valley Cooperative Preschool\, 6230 Beacon Ave S\, Seattle\, 98108\, United States
CATEGORIES:Open House
END:VEVENT
BEGIN:VEVENT
DTSTART;TZID=America/Los_Angeles:20231202T120000
DTEND;TZID=America/Los_Angeles:20231209T120000
DTSTAMP:20260420T022942
CREATED:20231128T213055Z
LAST-MODIFIED:20231203T183858Z
UID:7817-1701518400-1702123200@www.northseattlecoops.org
SUMMARY:North Seattle Cooperative Preschools Auction Fundraiser
DESCRIPTION:Join us for a virtual auction fundraiser to support North Seattle Cooperative Preschools! Your generosity will provide scholarships\, ensuring every child gets a chance at quality early education. Explore delightful themed baskets and be part of creating educational opportunities!  Auction opens December 2nd at noon and closes December 9th at noon. Let’s build a brighter future together.  \nAuction is live! View items and bid today!!
URL:https://www.northseattlecoops.org/event/north-seattle-cooperative-preschools-auction-fundraiser/
LOCATION:Online
END:VEVENT
BEGIN:VEVENT
DTSTART;TZID=America/Los_Angeles:20231026T190000
DTEND;TZID=America/Los_Angeles:20231026T210000
DTSTAMP:20260420T022942
CREATED:20231009T174447Z
LAST-MODIFIED:20231009T175734Z
UID:7769-1698346800-1698354000@www.northseattlecoops.org
SUMMARY:Fall Lecture: Parenting Beyond Power
DESCRIPTION:Parenting Beyond Power\nJoin Your Parenting Mojo Host & Parenting Beyond Power author\nJen Lumanlan to learn:\n\n\n\n\n\n\n\n\n\n\nWhy your 1-10 year old child does things like stalling\, hitting\, kicking\, biting and answering back\nHow to meet their needs while meeting yours as well\nWays to make parenting easier today while developing a collaborative relationship that sets the right foundation for the teenage years – and beyond!\n\n\n\n\n\n\n\n\nHosted by:\nJen Lumanlan\, M.S.\, M.Ed.\, host of the Your Parenting Mojo podcast & North Seattle College\nDate:\nThursday\, Oct. 26 @ 7pm – 9pm \nLocation:\nNorth Seattle College\nCollege Center room 1161\n9600 College Way N\nSeattle\, WA 98103 \nCost:\nFREE \n\nReserve your ticket: https://learn.yourparentingmojo.com/PBPParentNorthSeattleCollegeReservation\n\n\n\n\n\n\n\n\n\n\n\n\nAbout the Presenter\n\n\n\n\n\n\n\n\n\nJEN LUMANLAN\, MS\, MED (she/her)\, is the host of the Your Parenting Mojo podcast\, which was named Best Research-Based Parenting Podcast by Lifehacker. \nAfter attending Berkeley and Yale and following a traditional career path in sustainability consulting\, Jen found that parenting was her toughest challenge yet. She went back to school for a master’s in psychology focused on child development and another in education\, and trained as a Co-Active coach to share what she learned with other parents. \nIn courses\, memberships\, and now in the book Parenting Beyond Power\, Jen connects ideas across all of these experiences to help parents see the real needs that underlie their children’s difficult behavior\, meet all family members’ needs today\, and create a world where everyone’s needs are seen and met.
URL:https://www.northseattlecoops.org/event/fall-lecture-parenting-beyond-power/
LOCATION:Online
CATEGORIES:Lecture
END:VEVENT
BEGIN:VEVENT
DTSTART;TZID=America/Los_Angeles:20230919T183000
DTEND;TZID=America/Los_Angeles:20230919T190000
DTSTAMP:20260420T022942
CREATED:20230906T230916Z
LAST-MODIFIED:20230906T230916Z
UID:7742-1695148200-1695150000@www.northseattlecoops.org
SUMMARY:Family Connectors U. Info Session
DESCRIPTION:Family Connectors University  \nCome learn with NSC Instructor Lea Evans\, SPS Family Partnerships Coordinator Asosa Sailiai\, and an array of guest speakers. Topics covered always reflect the interests of the class\, and some example themes are: \n\nNavigating the School System\nBelonging and Partnership at Your School\nSupporting All Kinds of Learners to Be Successful and Confident\nSocial Justice\nSpecial Education at SPS\nSocial Emotional Learning & Academics\n\nTake this course in real-time or attend offline at a time that works for you. Check out an informational video about FCU here. \nIf you’d like to learn more and get your questions about participation answered\, please join us for an Info Session on September 19\, 2023: \nFamily Connectors U. Info Session\nTuesday\, September 19\n6:30-7:00 pm\nInfo Session Zoom Link–feel free to share with other interested SPS families. \nOpen class starting Tuesday\, October 3.
URL:https://www.northseattlecoops.org/event/family-connectors-u-info-session/
END:VEVENT
END:VCALENDAR