BEGIN:VCALENDAR
VERSION:2.0
PRODID:-//North Seattle Cooperative Preschools - ECPv6.15.17.1//NONSGML v1.0//EN
CALSCALE:GREGORIAN
METHOD:PUBLISH
X-WR-CALNAME:North Seattle Cooperative Preschools
X-ORIGINAL-URL:https://www.northseattlecoops.org
X-WR-CALDESC:Events for North Seattle Cooperative Preschools
REFRESH-INTERVAL;VALUE=DURATION:PT1H
X-Robots-Tag:noindex
X-PUBLISHED-TTL:PT1H
BEGIN:VTIMEZONE
TZID:America/Los_Angeles
BEGIN:DAYLIGHT
TZOFFSETFROM:-0800
TZOFFSETTO:-0700
TZNAME:PDT
DTSTART:20200308T100000
END:DAYLIGHT
BEGIN:STANDARD
TZOFFSETFROM:-0700
TZOFFSETTO:-0800
TZNAME:PST
DTSTART:20201101T090000
END:STANDARD
BEGIN:DAYLIGHT
TZOFFSETFROM:-0800
TZOFFSETTO:-0700
TZNAME:PDT
DTSTART:20210314T100000
END:DAYLIGHT
BEGIN:STANDARD
TZOFFSETFROM:-0700
TZOFFSETTO:-0800
TZNAME:PST
DTSTART:20211107T090000
END:STANDARD
BEGIN:DAYLIGHT
TZOFFSETFROM:-0800
TZOFFSETTO:-0700
TZNAME:PDT
DTSTART:20220313T100000
END:DAYLIGHT
BEGIN:STANDARD
TZOFFSETFROM:-0700
TZOFFSETTO:-0800
TZNAME:PST
DTSTART:20221106T090000
END:STANDARD
BEGIN:DAYLIGHT
TZOFFSETFROM:-0800
TZOFFSETTO:-0700
TZNAME:PDT
DTSTART:20230312T100000
END:DAYLIGHT
BEGIN:STANDARD
TZOFFSETFROM:-0700
TZOFFSETTO:-0800
TZNAME:PST
DTSTART:20231105T090000
END:STANDARD
END:VTIMEZONE
BEGIN:VEVENT
DTSTART;TZID=America/Los_Angeles:20220212T103000
DTEND;TZID=America/Los_Angeles:20220212T120000
DTSTAMP:20260425T033113
CREATED:20220126T040413Z
LAST-MODIFIED:20220126T040450Z
UID:6878-1644661800-1644667200@www.northseattlecoops.org
SUMMARY:Rainier Valley Cooperative Preschool Virtual Open House
DESCRIPTION:[trx_button type=”square” style=”global” size=”big” fullsize=”no” link=”https://docs.google.com/forms/d/e/1FAIpQLSfR_69S7-lRrfhqFz4YEqkml0WcEsVLAdbmsY4oLKw1mBpybA/viewform” popup=”no”]RSVP[/trx_button]
URL:https://www.northseattlecoops.org/event/rainier-valley-cooperative-preschool-open-house-2/
LOCATION:WA
CATEGORIES:Open House
END:VEVENT
BEGIN:VEVENT
DTSTART;TZID=America/Los_Angeles:20220212T100000
DTEND;TZID=America/Los_Angeles:20220212T120000
DTSTAMP:20260425T033113
CREATED:20220202T211728Z
LAST-MODIFIED:20220203T213446Z
UID:6902-1644660000-1644667200@www.northseattlecoops.org
SUMMARY:Loyal Heights In person Open House
DESCRIPTION:Loyal Heights is having two open house dates\, February 6th and February 12th. Each day includes a virtual open house and an in person open house. \nCome join us for an in person open house\, either of these dates\, 10am-12pm. \nOr for a virtual open house 9:30-10am\, contact us for the link. \nhttp://www.loyalheightspreschool.com/contact-us.html
URL:https://www.northseattlecoops.org/event/loyal-heights-in-person-open-house-2/
LOCATION:WA
END:VEVENT
BEGIN:VEVENT
DTSTART;TZID=America/Los_Angeles:20220212T100000
DTEND;TZID=America/Los_Angeles:20220212T120000
DTSTAMP:20260425T033113
CREATED:20220124T193821Z
LAST-MODIFIED:20220124T193829Z
UID:6866-1644660000-1644667200@www.northseattlecoops.org
SUMMARY:Wallingford Open House
DESCRIPTION:Please register and join us for an open house. \nMeet the teacher\, see our space\, and learn all about how co-op works! \nVaccinated adults only\, please\, no children. Masks required.
URL:https://www.northseattlecoops.org/event/wallingford-open-house/
LOCATION:WA
CATEGORIES:Open House
END:VEVENT
BEGIN:VEVENT
DTSTART;TZID=America/Los_Angeles:20220212T093000
DTEND;TZID=America/Los_Angeles:20220212T100000
DTSTAMP:20260425T033113
CREATED:20220203T213802Z
LAST-MODIFIED:20220203T213822Z
UID:6920-1644658200-1644660000@www.northseattlecoops.org
SUMMARY:Loyal Heights Virtual Open House
DESCRIPTION:Loyal Heights is having two open house dates\, February 6th and February 12th. Each day includes a virtual open house and an in person open house. \nTo join us for an virtual open house 9:30-10am\, please contact us for the link. \nhttp://www.loyalheightspreschool.com/contact-us.html \nOr to join us for an in person open house\, either of these dates\, 10am-12pm. \n 
URL:https://www.northseattlecoops.org/event/loyal-heights-virtual-open-house-2/
LOCATION:WA
END:VEVENT
BEGIN:VEVENT
DTSTART;TZID=America/Los_Angeles:20220208T190000
DTEND;TZID=America/Los_Angeles:20220208T200000
DTSTAMP:20260425T033113
CREATED:20220120T222411Z
LAST-MODIFIED:20220120T222411Z
UID:6841-1644346800-1644350400@www.northseattlecoops.org
SUMMARY:Lakewood Open House
DESCRIPTION:Agenda\n7:00-8:00pm: \n\nWelcome message by our Co-Chair\nIntroduction of our Teachers\, classes and Parent Educator\nVideo Tour of our school\nHear from a current co-op parent\, Anti-Bias Committee Chair & Enrollment Coordinator\n\n8:00pm \n\nBreakout groups with teachers\, current parents & board members for Q&A\n\nHelpful tips\nWe’d like to share a few helpful tips to make participation easy and integrated.\nWhen you sign on\, please change your display name to include the letter of class you’re applying for (B for Bumblebees\, C for Crickets\, D for Dragonflies)\, your name and preferred pronouns.\nIn the larger group\, we will be recording that portion of the meeting\, the host may mute everyone at certain points during the meeting. If you wish to not be in the recording you can remain muted or turn off your video.\nIf you have a question\, please raise your hand. We will have someone keeping track of the order and will be sure you have a chance to speak. You can unmute yourself to ask a question or join in the discussion.\nWe will utilize the chat area to ask and answer any additional questions that come up. \nWe’re really looking forward to meeting you\, learning about your child\, and sharing more about your child\, and sharing more about what makes LCP special. \nZoom Information\nTopic: Lakewood Cooperative Preschool Open House. Passcode 369369\nTime: Feb 8\, 2022 07:00 PM Pacific Time (US and Canada) \nJoin Zoom Meeting\nhttps://us02web.zoom.us/j/88421405254?pwd=cWhsYWhoSi9sVzFiNVg4bGg2Z3dkUT09 \nMeeting ID: 884 2140 5254\nPasscode: 369369\nOne tap mobile\n+12532158782\,\,88421405254#\,\,\,\,*369369# US (Tacoma)\n+13462487799\,\,88421405254#\,\,\,\,*369369# US (Houston) \nDial by your location\n+1 253 215 8782 US (Tacoma)\n+1 346 248 7799 US (Houston)\n+1 669 900 6833 US (San Jose)\n+1 929 205 6099 US (New York)\n+1 301 715 8592 US (Washington DC)\n+1 312 626 6799 US (Chicago)\nMeeting ID: 884 2140 5254\nPasscode: 369369\nFind your local number: https://us02web.zoom.us/u/kbfKUW3YJh
URL:https://www.northseattlecoops.org/event/lakewood-open-house/
LOCATION:WA
END:VEVENT
BEGIN:VEVENT
DTSTART;TZID=America/Los_Angeles:20220206T100000
DTEND;TZID=America/Los_Angeles:20220206T120000
DTSTAMP:20260425T033113
CREATED:20220202T211546Z
LAST-MODIFIED:20220203T213528Z
UID:6899-1644141600-1644148800@www.northseattlecoops.org
SUMMARY:Loyal Heights In Person Open House
DESCRIPTION:Loyal Heights is having two open house dates\, February 6th and February 12th. Each day includes a virtual open house and an in person open house. \nCome join us for an in person open house\, either of these dates\, 10am-12pm. \nOr for a virtual open house 9:30-10am\, contact us for the link. \nhttp://www.loyalheightspreschool.com/contact-us.html
URL:https://www.northseattlecoops.org/event/loyal-heights-in-person-open-house/
LOCATION:WA
END:VEVENT
BEGIN:VEVENT
DTSTART;TZID=America/Los_Angeles:20220206T093000
DTEND;TZID=America/Los_Angeles:20220206T100000
DTSTAMP:20260425T033113
CREATED:20220203T213637Z
LAST-MODIFIED:20220203T213637Z
UID:6914-1644139800-1644141600@www.northseattlecoops.org
SUMMARY:Loyal Heights Virtual Open House
DESCRIPTION:Loyal Heights is having two open house dates\, February 6th and February 12th. Each day includes a virtual open house and an in person open house. \nTo join us for an virtual open house 9:30-10am\, please contact us for the link. \nhttp://www.loyalheightspreschool.com/contact-us.html \nOr to join us for an in person open house\, either of these dates\, 10am-12pm. \n 
URL:https://www.northseattlecoops.org/event/loyal-heights-virtual-open-house/
LOCATION:WA
CATEGORIES:Open House
END:VEVENT
BEGIN:VEVENT
DTSTART;TZID=America/Los_Angeles:20220205T140000
DTEND;TZID=America/Los_Angeles:20220205T150000
DTSTAMP:20260425T033113
CREATED:20220122T221821Z
LAST-MODIFIED:20220131T204450Z
UID:6862-1644069600-1644073200@www.northseattlecoops.org
SUMMARY:Woodland Park Co-op In Person Open House (Kindergarten and Preschool)
DESCRIPTION:Woodland Park Co-op is doing a virtual open house and an in person open house. The virtual open house is Sunday\, January 23rd at 10 am. The in-person is for vaccinated adults only\, and is on February 5th at 2 pm. Please register to attend. This event is for adults in prospective families of Kindergarteners and preschoolers.\n\nMore info on the Woodland Park website.
URL:https://www.northseattlecoops.org/event/woodland-park-co-op-open-house/
LOCATION:WA
END:VEVENT
BEGIN:VEVENT
DTSTART;TZID=America/Los_Angeles:20220205T130000
DTEND;TZID=America/Los_Angeles:20220205T140000
DTSTAMP:20260425T033113
CREATED:20220124T194150Z
LAST-MODIFIED:20220124T194150Z
UID:6868-1644066000-1644069600@www.northseattlecoops.org
SUMMARY:NorthLeaf Open House
DESCRIPTION:NorthLeaf Campus Cooperative Preschool is having an Open House on Saturday\, February 5\, 2022 from 1 – 2 pm. Join us! Meet our amazing teachers\, tour our spacious classrooms\, and learn more about our classes. Our Open House is a great way to get to know our preschool before open registration begins on February 12\, 2022. \n\nWe are located on the north side of the North Seattle College campus in the Instruction Building\, rooms 1407 and 1304. The street address is 9600 College Way N.\n\n\nThis year our Open House is an adult-only event.\n\nLearn more about the event\, get directions\, and RSVP here (https://www.northleafcoop.org/2022/01/23/open-house/).
URL:https://www.northseattlecoops.org/event/northleaf-open-house/
LOCATION:WA
END:VEVENT
BEGIN:VEVENT
DTSTART;TZID=America/Los_Angeles:20220129T100000
DTEND;TZID=America/Los_Angeles:20220129T110000
DTSTAMP:20260425T033113
CREATED:20220120T221514Z
LAST-MODIFIED:20220120T221718Z
UID:6835-1643450400-1643454000@www.northseattlecoops.org
SUMMARY:Crown Hill Virtual Open House
DESCRIPTION:Take a tour of our certified “Nature Explorer” outdoor classroom and get to know Teacher Janice and our community of learners and caring adults! \nInfo: crownhill.preschool@gmail.com
URL:https://www.northseattlecoops.org/event/crown-hill-virtual-open-house/
LOCATION:WA
END:VEVENT
BEGIN:VEVENT
DTSTART;VALUE=DATE:20220129
DTEND;VALUE=DATE:20220130
DTSTAMP:20260425T033113
CREATED:20220111T031628Z
LAST-MODIFIED:20220111T031628Z
UID:6808-1643414400-1643500799@www.northseattlecoops.org
SUMMARY:Sandhurst Open House
DESCRIPTION:Sandhurst is planning an in-person (indoor & outdoor) open house on Jan 29. Only vaccinated adults to attend. (No kids)
URL:https://www.northseattlecoops.org/event/sandhurst-open-house/
LOCATION:WA
END:VEVENT
BEGIN:VEVENT
DTSTART;TZID=America/Los_Angeles:20220123T100000
DTEND;TZID=America/Los_Angeles:20220123T110000
DTSTAMP:20260425T033113
CREATED:20220122T221423Z
LAST-MODIFIED:20220122T222004Z
UID:6857-1642932000-1642935600@www.northseattlecoops.org
SUMMARY:Woodland Park Coop Open House
DESCRIPTION:Woodland Park Co-op is doing a virtual open house and an in person open house. The virtual open house is Sunday\, January 23rd at 10 am. The in-person is for vaccinated adults only\, and is on February 5th at 2 pm. Please register to attend.\n\nMore info on the Woodland Park website.
URL:https://www.northseattlecoops.org/event/woodland-park-coop-open-house/
LOCATION:WA
END:VEVENT
BEGIN:VEVENT
DTSTART;TZID=America/Los_Angeles:20220122T140000
DTEND;TZID=America/Los_Angeles:20220122T160000
DTSTAMP:20260425T033113
CREATED:20220111T030139Z
LAST-MODIFIED:20220111T030405Z
UID:6800-1642860000-1642867200@www.northseattlecoops.org
SUMMARY:Victory Heights
DESCRIPTION:To be determined if in person or virtual.
URL:https://www.northseattlecoops.org/event/victory-heights/
LOCATION:WA
CATEGORIES:Open House
END:VEVENT
BEGIN:VEVENT
DTSTART;TZID=America/Los_Angeles:20220122T100000
DTEND;TZID=America/Los_Angeles:20220122T110000
DTSTAMP:20260425T033113
CREATED:20220111T033350Z
LAST-MODIFIED:20220111T035717Z
UID:6814-1642845600-1642849200@www.northseattlecoops.org
SUMMARY:Wedgwood
DESCRIPTION:Wedgwood is having an in person open house. \nWedgwood coop
URL:https://www.northseattlecoops.org/event/wedgwood/
LOCATION:WA
END:VEVENT
BEGIN:VEVENT
DTSTART;VALUE=DATE:20220110
DTEND;VALUE=DATE:20220111
DTSTAMP:20260425T033113
CREATED:20220111T031247Z
LAST-MODIFIED:20220111T031247Z
UID:6804-1641772800-1641859199@www.northseattlecoops.org
SUMMARY:Magnolia Open House
DESCRIPTION:Details coming soon
URL:https://www.northseattlecoops.org/event/magnolia-open-house/
LOCATION:WA
CATEGORIES:Open House
END:VEVENT
BEGIN:VEVENT
DTSTART;TZID=America/Los_Angeles:20211118T190000
DTEND;TZID=America/Los_Angeles:20211118T203000
DTSTAMP:20260425T033113
CREATED:20211102T174302Z
LAST-MODIFIED:20211117T200155Z
UID:6716-1637262000-1637267400@www.northseattlecoops.org
SUMMARY:Lecture: Educating Citizens by Teacher Tom
DESCRIPTION:Come join us for a talk by Teacher Tom.\n\nThe great John Dewey wrote: “Democracy must be born anew with each generation\, and education is its midwife.” The purpose of education in a democracy is not to train children for their vocational futures\, but rather for their role as citizens in a self-governing society\, and it is never too early to start. In this talk\, participants will have the opportunity to explore how their homes and cooperative classrooms can better serve as laboratories for critical thinking\, democratic decision-making\, cooperation\, challenging authority\, working toward agreements\, settling conflicts\, and standing up for beliefs while honoring the beliefs of others. We will examine how children\, through play\, can learn the habits and skills of democratic decision-making and how to get their own needs met while creating the space for others to meet theirs\, all within the context of a community.\n\nRegister to attend. \nFor questions\, please contact kristina.weidert@seattlecolleges.edu. \nThis event is free and open to everyone. For families who are able\, please consider donating to our Co-op COVID Relief Fund/Scholarship Fund so that our co-ops can offer quality programs and support to families during this time of crisis. Donations help keep co-op preschools accessible to people of all socioeconomic levels and help keep co-op preschools going where enrollment is low. \nDonate now \nThank You to our Sponsor
URL:https://www.northseattlecoops.org/event/lecture-educating-citizens-by-teacher-tom/
LOCATION:WA
CATEGORIES:Lecture
END:VEVENT
BEGIN:VEVENT
DTSTART;TZID=America/Los_Angeles:20210506T190000
DTEND;TZID=America/Los_Angeles:20210506T203000
DTSTAMP:20260425T033113
CREATED:20210422T214049Z
LAST-MODIFIED:20210506T171411Z
UID:6472-1620327600-1620333000@www.northseattlecoops.org
SUMMARY:Lecture: After Covid: brain science\, preschoolers\, and the transition to in-person learning
DESCRIPTION:This is a two part lecture. First\, Dr. Marley Jarvis (above) from UW ILABS will be talking about core principles of early brain development and how nurturing relationships with caregivers and other supportive adults help build the brain. \n \n  \n  \n  \n  \n  \n  \n  \n  \n  \nNext\, Stacy Lappin (left) and Jen Giomi (right) from Sound Discipline will talk more about building resilience in our kids and community as well as a trauma responsive school transition. \nRegister to attend. \nFor questions\, please contact kristina.weidert@seattlecolleges.edu. \nThis event is free and open to everyone. For families who are able\, please consider donating to our Co-op COVID Relief Fund/Scholarship Fund so that our co-ops can offer quality programs and support to families during this time of crisis. Donations help keep co-op preschools accessible to people of all socioeconomic levels and help keep co-op preschools going where enrollment is low. \nDonate now \nTHANK YOU to our sponsors.
URL:https://www.northseattlecoops.org/event/lecture-after-covid-brain-science-preschoolers-and-the-transition-to-in-person-learning/
LOCATION:WA
CATEGORIES:Lecture
ATTACH;FMTTYPE=image/jpeg:https://www.northseattlecoops.org/wp-content/uploads/2021/04/marley-jarvis_bio_new.jpg
END:VEVENT
BEGIN:VEVENT
DTSTART;TZID=America/Los_Angeles:20210420T193000
DTEND;TZID=America/Los_Angeles:20210420T203000
DTSTAMP:20260425T033113
CREATED:20210329T042707Z
LAST-MODIFIED:20210329T042707Z
UID:6330-1618947000-1618950600@www.northseattlecoops.org
SUMMARY:Madison Park Co-op Open House
DESCRIPTION:In light of COVID-19\, we’re hosting virtual open houses for prospective MPCP families to learn more about our school\, our teachers and our curriculum. We’re very excited to return to in-person programming starting Fall 2021!\nWHEN: Tuesday\, April 20 at 7:30 pm\nREGISTER\nFeel free to contact our Registrar with any questions or to attend a trial class! registrar@madisonparkcoop.com
URL:https://www.northseattlecoops.org/event/madison-park-co-op-open-house/
LOCATION:WA
CATEGORIES:Open House
END:VEVENT
BEGIN:VEVENT
DTSTART;TZID=America/Los_Angeles:20210410T100000
DTEND;TZID=America/Los_Angeles:20210410T110000
DTSTAMP:20260425T033113
CREATED:20210308T201917Z
LAST-MODIFIED:20210308T201931Z
UID:6211-1618048800-1618052400@www.northseattlecoops.org
SUMMARY:Crown Hill Open House / Q&A
DESCRIPTION:Open House/Q+A session (Saturday\, April 10th at 10am)\n\n\nRSVP to: CROWNHILL.PRESCHOOL@GMAIL.COM\nto receive the link.\n\n\n\nhttps://www.crownhillpreschool.com
URL:https://www.northseattlecoops.org/event/crown-hill-open-house-qa/
LOCATION:WA
CATEGORIES:Open House
END:VEVENT
BEGIN:VEVENT
DTSTART;TZID=America/Los_Angeles:20210403T163000
DTEND;TZID=America/Los_Angeles:20210403T180000
DTSTAMP:20260425T033113
CREATED:20210127T201717Z
LAST-MODIFIED:20210312T034503Z
UID:6152-1617467400-1617472800@www.northseattlecoops.org
SUMMARY:Anti-Bias Speaker Series: Conversations with Children: Let’s Talk About Race and Racism
DESCRIPTION:Conscious Parenting: Teaching Young Children Diversity\, Inclusion and Equity\nMPCP is hosting this three part\, anti-bias speaker series in an effort to provide a forum for education and discussion for parents of young children as well as anyone hoping to better understand or advocate for members of their community. \n\nWHEN: February\, March and April (see below for date/time details)\nWHO: This series is open to anyone interested in the topics being covered.\nWHERE: Zoom Video Conferencing\nCOST: FREE\n\nConversations with Children: Let’s Talk About Race and Racism\nApril 3\, 2021 @ 4:30 pm\nJamie Cho\, Ph.D.\nParent educator at two Seattle-based cooperative preschools \nJamie Cho is a parent educator at two cooperative preschools through Seattle Central College and Bellevue College. She holds a Ph.D. in special education from U.C. Berkeley and her research has focused on cultural beliefs around parenting. Jamie has worked previously as an early interventionist with young children with autism spectrum disorders as well as served as an educational researcher at UCLA and teacher educator at California State Universities. She lives in Bellevue WA with her husband and three children\, ages 12\, 10 and 7. \nThis conversation will center race and how to talk with children and answer their questions about racial differences and racism. Children’s understanding of racial categories develop early and are influenced by the narratives offered by the adults in their lives. It is vital that adults are having conversations with children as they try to make sense of what they are observing in their family\, neighborhoods\, schools\, and communities. Through these conversations\, families have the power to raise a generation of critical thinkers who strive for social justice and equity. \nSee Madison Park Co-op’s website for full details.
URL:https://www.northseattlecoops.org/event/anti-bias-speaker-series-conversations-with-children-lets-talk-about-race-and-racism/
LOCATION:WA
CATEGORIES:Lecture
END:VEVENT
BEGIN:VEVENT
DTSTART;TZID=America/Los_Angeles:20210327T100000
DTEND;TZID=America/Los_Angeles:20210327T110000
DTSTAMP:20260425T033113
CREATED:20210225T220832Z
LAST-MODIFIED:20210225T220832Z
UID:6205-1616839200-1616842800@www.northseattlecoops.org
SUMMARY:Latona Open House
DESCRIPTION:Come and join us for a virtual open house on Saturday 3/27/2021 at 10am. Please register to receive the zoom link invitation.\n“Childhood is celebrated\, learning is exploratory and fun\, diversity and inclusivity are honored and a learning community of adult caregivers are formed” at Latona Cooperative Preschool! \nAt Latona Cooperative Preschool we offer three programs for progressing age groups. In every class\, children enjoy developmentally appropriate interactive activities\, singing\, dancing and storytelling. Currently we are offering virtual classes and also once a week on site in person outdoor play option\, for families who feel ready. Each family also receives monthly curriculum supply packets to follow and do these activities at home. Come and join us for a virtual open house on Saturday 3/27/2021 at 10 am. Please register to receive the zoom link invitation by reaching out to latonapre3s@gmail.com or registering on Eventbrite. Learn more about us on Instagram @latona_coop_preschool or Facebook: Latona Cooperative Preschool. \nPre-3s (2-3 years)\nTuesday & Thursday mornings \n3-5s (3-5 years)\nMonday\, Wednesday\, and Friday mornings \nPre-K (4+ years)\n+ Friday afternoons \nEventbrite \nFacebook
URL:https://www.northseattlecoops.org/event/latona-open-house/
LOCATION:WA
CATEGORIES:Open House
END:VEVENT
BEGIN:VEVENT
DTSTART;TZID=America/Los_Angeles:20210323T190000
DTEND;TZID=America/Los_Angeles:20210323T200000
DTSTAMP:20260425T033113
CREATED:20210121T053535Z
LAST-MODIFIED:20210121T054106Z
UID:6030-1616526000-1616529600@www.northseattlecoops.org
SUMMARY:Campus Toddler and Infant Open House
DESCRIPTION:Download Flyer \nRegister to attend
URL:https://www.northseattlecoops.org/event/campus-toddler-and-infant-open-house/
LOCATION:WA
CATEGORIES:Open House
END:VEVENT
BEGIN:VEVENT
DTSTART;TZID=America/Los_Angeles:20210320T140000
DTEND;TZID=America/Los_Angeles:20210320T140000
DTSTAMP:20260425T033113
CREATED:20210120T192215Z
LAST-MODIFIED:20210120T192242Z
UID:5982-1616248800-1616248800@www.northseattlecoops.org
SUMMARY:Woodland Park Preschool Open House
DESCRIPTION:Full Preschool Info Pack 2021\n\nPreschool Open Houses\nSaturday\, February 6 at 2pm – Facebook Event\nSaturday\, February 27 at 10am – Facebook Event\nSaturday\, March 20 at 2pm – Facebook Event
URL:https://www.northseattlecoops.org/event/woodland-park-preschool-open-house/
LOCATION:WA
CATEGORIES:Open House
END:VEVENT
BEGIN:VEVENT
DTSTART;TZID=America/Los_Angeles:20210306T163000
DTEND;TZID=America/Los_Angeles:20210306T163000
DTSTAMP:20260425T033113
CREATED:20210127T201033Z
LAST-MODIFIED:20210127T201122Z
UID:6145-1615048200-1615048200@www.northseattlecoops.org
SUMMARY:Anti-bias Speaker Series: Talking to Kids about Disabilities
DESCRIPTION:Conscious Parenting: Teaching Young Children Diversity\, Inclusion and Equity\nMPCP is hosting this three part\, anti-bias speaker series in an effort to provide a forum for education and discussion for parents of young children as well as anyone hoping to better understand or advocate for members of their community. \n\nWHEN: February\, March and April (see below for date/time details)\nWHO: This series is open to anyone interested in the topics being covered.\nWHERE: Zoom Video Conferencing\nCOST: FREE\n\n\n\nTalking to Kids about Disabilities\nMarch 6\, 2021 @ 4:30 pm\nHannah Gallagher\, M.Ed. \nInclusive Programs Director and Preschool Teacher\, Seattle Children’s PlayGarden \nHannah is an environmental educator from Seattle\, WA. She has a Master’s degree in Education and non-profit management from the University of Washington and has worked with children of all abilities and ages in engaging in outdoor play for the last thirteen years at the PlayGarden. She is passionate about making environmental education inclusive for all\, building a more sustainable and just food systems\, and fostering resilient communities. \nSee Madison Park Co-op’s website for full details
URL:https://www.northseattlecoops.org/event/anti-bias-speaker-series-talking-to-kids-about-disabilities/
LOCATION:WA
CATEGORIES:Lecture
END:VEVENT
BEGIN:VEVENT
DTSTART;TZID=America/Los_Angeles:20210227T100000
DTEND;TZID=America/Los_Angeles:20210227T113000
DTSTAMP:20260425T033113
CREATED:20210121T203338Z
LAST-MODIFIED:20210122T184724Z
UID:6058-1614420000-1614425400@www.northseattlecoops.org
SUMMARY:Rainier Valley Cooperative Preschool Open House
DESCRIPTION:Please join us for this virtual open house. Talk with our teachers\, hear from our community\, and tour our outdoor classroom! \nMore info and registration at Rainier Valley Cooperative Preschool’s website. \n\nContact: enrollment@rainiervalleycooppreschool.org
URL:https://www.northseattlecoops.org/event/rainier-valley-cooperative-preschool-open-house/
LOCATION:WA
CATEGORIES:Open House
END:VEVENT
BEGIN:VEVENT
DTSTART;TZID=America/Los_Angeles:20210227T100000
DTEND;TZID=America/Los_Angeles:20210227T100000
DTSTAMP:20260425T033113
CREATED:20210120T192135Z
LAST-MODIFIED:20210120T192135Z
UID:5979-1614420000-1614420000@www.northseattlecoops.org
SUMMARY:Woodland Park Co-op Preschool Open House
DESCRIPTION:Full Preschool Info Pack 2021\n\nPreschool Open Houses\nSaturday\, February 6 at 2pm – Facebook Event\nSaturday\, February 27 at 10am – Facebook Event\nSaturday\, March 20 at 2pm – Facebook Event
URL:https://www.northseattlecoops.org/event/woodland-park-co-op-preschool-open-house-2/
LOCATION:WA
CATEGORIES:Open House
END:VEVENT
BEGIN:VEVENT
DTSTART;TZID=America/Los_Angeles:20210225T190000
DTEND;TZID=America/Los_Angeles:20210225T203000
DTSTAMP:20260425T033113
CREATED:20210119T190333Z
LAST-MODIFIED:20210211T204545Z
UID:5925-1614279600-1614285000@www.northseattlecoops.org
SUMMARY:Speaker: Relationship Balancing Act: Me\, We\, Family & COVID
DESCRIPTION: 
URL:https://www.northseattlecoops.org/event/speaker-relationship-balancing-act-me-we-family-covid/
LOCATION:WA
CATEGORIES:Lecture
END:VEVENT
BEGIN:VEVENT
DTSTART;TZID=America/Los_Angeles:20210220T110000
DTEND;TZID=America/Los_Angeles:20210220T120000
DTSTAMP:20260425T033113
CREATED:20210121T201648Z
LAST-MODIFIED:20210121T201748Z
UID:6047-1613818800-1613822400@www.northseattlecoops.org
SUMMARY:Loyal Heights Open House
DESCRIPTION:RSVP at loyalheightspreschool.com
URL:https://www.northseattlecoops.org/event/loyal-heights-open-house/
LOCATION:WA
CATEGORIES:Open House
END:VEVENT
BEGIN:VEVENT
DTSTART;TZID=America/Los_Angeles:20210220T100000
DTEND;TZID=America/Los_Angeles:20210220T110000
DTSTAMP:20260425T033113
CREATED:20210123T060105Z
LAST-MODIFIED:20210123T060105Z
UID:6090-1613815200-1613818800@www.northseattlecoops.org
SUMMARY:Meadowbrook Cooperative Preschool Open House
DESCRIPTION:Thursday Feb 11th at 9am\nSaturday Feb 20th at 10am \nCome join us for a circle time\, meet the teacher and learn more about our community. We’d love to have you. \nMeadowbrook Cooperative preschool offers high quality\, low cost preschool\, parent education and community for children ages 2-5 years old. \nPlease email us at meadowbrookregistrar@gmail.com for more information
URL:https://www.northseattlecoops.org/event/meadowbrook-cooperative-preschool-open-house-2/
LOCATION:WA
CATEGORIES:Open House
END:VEVENT
BEGIN:VEVENT
DTSTART;TZID=America/Los_Angeles:20210213T150000
DTEND;TZID=America/Los_Angeles:20210213T160000
DTSTAMP:20260425T033113
CREATED:20210122T185447Z
LAST-MODIFIED:20210122T185530Z
UID:6070-1613228400-1613232000@www.northseattlecoops.org
SUMMARY:Latona Cooperative Preschool Open House
DESCRIPTION:Come and join us for a virtual open house on Saturday 2/13/2021 at 3:00 pm. Please register on eventbrite to receive the zoom link invitation.\n\n\n\n\n\nAbout this Event\n\n\n“Childhood is celebrated\, learning is exploratory and fun\, diversity and inclusivity are honored and a learning community of adult caregivers are formed” at Latona Cooperative Preschool! \nJoin us for a virtual open house! At Latona Cooperative Preschool we offer three programs for progressing age groups. In every class\, children enjoy developmentally appropriate interactive activities\, singing\, dancing and storytelling. Currently we are offering virtual classes and also once a week on site in person outdoor play option\, for families who feel ready. Each family also receives monthly curriculum supply packets to follow and do these activities at home. Come and join us for a virtual open house on Saturday 2/13/2021 at 3:00 pm. Please register to receive the zoom link invitation by reaching out to latonapre3s@gmail.com or registering on Eventbrite. Learn more about us on Instagram @latona_coop_preschool or Facebook: Latona Cooperative Preschool. \n  \nPre-3s (2-3 years) \nTuesday & Thursday mornings \n  \n3-5s (3-5 years) \nMonday\, Wednesday\, and Friday mornings \n  \nPre-K (4+ years) \n+ Friday afternoons”
URL:https://www.northseattlecoops.org/event/latona-cooperative-preschool-open-house/
LOCATION:WA
END:VEVENT
END:VCALENDAR