BEGIN:VCALENDAR
VERSION:2.0
PRODID:-//North Seattle Cooperative Preschools - ECPv6.15.17.1//NONSGML v1.0//EN
CALSCALE:GREGORIAN
METHOD:PUBLISH
X-ORIGINAL-URL:https://www.northseattlecoops.org
X-WR-CALDESC:Events for North Seattle Cooperative Preschools
REFRESH-INTERVAL;VALUE=DURATION:PT1H
X-Robots-Tag:noindex
X-PUBLISHED-TTL:PT1H
BEGIN:VTIMEZONE
TZID:America/Los_Angeles
BEGIN:DAYLIGHT
TZOFFSETFROM:-0800
TZOFFSETTO:-0700
TZNAME:PDT
DTSTART:20220313T100000
END:DAYLIGHT
BEGIN:STANDARD
TZOFFSETFROM:-0700
TZOFFSETTO:-0800
TZNAME:PST
DTSTART:20221106T090000
END:STANDARD
BEGIN:DAYLIGHT
TZOFFSETFROM:-0800
TZOFFSETTO:-0700
TZNAME:PDT
DTSTART:20230312T100000
END:DAYLIGHT
BEGIN:STANDARD
TZOFFSETFROM:-0700
TZOFFSETTO:-0800
TZNAME:PST
DTSTART:20231105T090000
END:STANDARD
BEGIN:DAYLIGHT
TZOFFSETFROM:-0800
TZOFFSETTO:-0700
TZNAME:PDT
DTSTART:20240310T100000
END:DAYLIGHT
BEGIN:STANDARD
TZOFFSETFROM:-0700
TZOFFSETTO:-0800
TZNAME:PST
DTSTART:20241103T090000
END:STANDARD
END:VTIMEZONE
BEGIN:VEVENT
DTSTART;TZID=America/Los_Angeles:20230115T160000
DTEND;TZID=America/Los_Angeles:20230115T173000
DTSTAMP:20260425T082746
CREATED:20230106T141938Z
LAST-MODIFIED:20230109T220824Z
UID:7333-1673798400-1673803800@www.northseattlecoops.org
SUMMARY:Meadowbrook Coop Open House
DESCRIPTION:ENROLL\nWe are currently registering for the 2022-23 school year. Openings are still available in all our classes! We follow the Seattle Public School academic year\, running from September through May\, but students are welcome to join mid-year. To find out more or to schedule an observation of the class\, please contact our Registrar. \nFill out a registration form here! \nRegistrar: meadowbrookregistrar@gmail.com
URL:https://www.northseattlecoops.org/event/meadowbrook-coop-open-house/
LOCATION:Meadowbrook Cooperative Preschool\, 1933 NE 125th Street\, Seattle\, WA\, 98125\, United States
CATEGORIES:Open House
END:VEVENT
BEGIN:VEVENT
DTSTART;TZID=America/Los_Angeles:20230121T090000
DTEND;TZID=America/Los_Angeles:20230121T100000
DTSTAMP:20260425T082746
CREATED:20230106T142654Z
LAST-MODIFIED:20230109T221008Z
UID:7339-1674291600-1674295200@www.northseattlecoops.org
SUMMARY:Sandhurst Co-op Open House
DESCRIPTION:Join us for our Open House for the 2023-2024 School Year!
URL:https://www.northseattlecoops.org/event/sandhurst-co-op-open-house/
LOCATION:Sandhurst Cooperative Preschool\, 4710 NE 70th St\, Seattle\, WA\, 98115\, United States
CATEGORIES:Open House
END:VEVENT
BEGIN:VEVENT
DTSTART;TZID=America/Los_Angeles:20230121T100000
DTEND;TZID=America/Los_Angeles:20230121T110000
DTSTAMP:20260425T082746
CREATED:20230106T144153Z
LAST-MODIFIED:20230109T221020Z
UID:7353-1674295200-1674298800@www.northseattlecoops.org
SUMMARY:Wedgwood Co-op Open House
DESCRIPTION:Open House:  Sat\, Jan 21\, 10-11am\nBring your preschoolers for a morning of fun at Wedgwood Co-op! Kids can enjoy a morning of fun activities in our welcoming space. You can ask teachers questions\, chat with current Wedgwood families\, or just enjoy some fun time out of the cold.\nNow Enrolling for the 2022-23 School Year! \nVisit our How to Enroll 
URL:https://www.northseattlecoops.org/event/wedgwood-co-op-open-house-2/
LOCATION:Wedgwood Cooperative Preschool\, 8208 18th Ave NE\, Seattle\, WA\, 98115\, United States
CATEGORIES:Open House
END:VEVENT
BEGIN:VEVENT
DTSTART;TZID=America/Los_Angeles:20230121T100000
DTEND;TZID=America/Los_Angeles:20230121T120000
DTSTAMP:20260425T082746
CREATED:20230106T143852Z
LAST-MODIFIED:20230109T221031Z
UID:7349-1674295200-1674302400@www.northseattlecoops.org
SUMMARY:Wallingford Cooperative Open House
DESCRIPTION:VISIT OUR OPEN HOUSE\n\n\n\n\n\n\nJanuary 21st\, 2023 \n10:00 a.m. – 12:00 p.m. \nTour the classroom and meet the teacher!
URL:https://www.northseattlecoops.org/event/wallingford-cooperative-open-house/
LOCATION:Wallingford Cooperative Preschool\, 5019 Keystone Pl N\, Seattle\, WA\, 98103\, United States
CATEGORIES:Open House
END:VEVENT
BEGIN:VEVENT
DTSTART;TZID=America/Los_Angeles:20230128T140000
DTEND;TZID=America/Los_Angeles:20230128T160000
DTSTAMP:20260425T082746
CREATED:20230109T163158Z
LAST-MODIFIED:20230109T221105Z
UID:7383-1674914400-1674921600@www.northseattlecoops.org
SUMMARY:Victory Heights Cooperative Open House
DESCRIPTION:Meet our teachers and tour our school at our Open House! We will have play stations set up for kids so bring the whole family. Ask current families and teachers questions about Victory Heights Coop Preschool. We are still accepting students for our current 2022-2023 Toddlers class (age 1-2) and enrollment for the 2023-2024 school year will open on February 11th. \nMore information about our Coop:\nVictory Heights Cooperative Preschool has been serving the North Seattle area for over 40 years. We offer classes for children ages 1-5 that focus on learning through play\, engaging in meaningful experiences\, and building community for parents. The long-lasting family connections built at our school is one of the reasons parents return to Victory Heights year after year. \nWe are located in a Seattle Parks building adjacent to an outdoor playground that serves as an essential part of our program. Our indoor space is open and bright\, with areas for art\, sensory play\, science exploration\, library\, imagination play\, and more. Our teachers focus on creating safe and nurturing environments with the help of parents who act as teaching assistants in the classroom. Parents receive guidance and support from Parent Educators from North Seattle College and have the opportunity to learn alongside their children. \nOur school prides itself on offering affordable\, play-based preschool classes\, keeping tuition low\, and offering scholarships that cover up to 75% of tuition. We are still accepting students for our current 2022-2023 Toddlers class (age 1-2) and enrollment for the 2023-2024 school year will open on February 11th. \nhttps://victoryheightscoop.com/
URL:https://www.northseattlecoops.org/event/7383/
LOCATION:Victory Heights Cooperative Preschool\, 1747 NE 106th St.\, Seattle\, WA\, 98125\, United States
CATEGORIES:Open House
END:VEVENT
BEGIN:VEVENT
DTSTART;TZID=America/Los_Angeles:20230128T140000
DTEND;TZID=America/Los_Angeles:20230128T160000
DTSTAMP:20260425T082746
CREATED:20230114T220050Z
LAST-MODIFIED:20230114T220050Z
UID:7456-1674914400-1674921600@www.northseattlecoops.org
SUMMARY:Woodland Park Co-op Open House
DESCRIPTION:Woodland Park Co-op is holding a Kindergarten & Preschool Open House on \nSaturday\, January 28th at 2PM
URL:https://www.northseattlecoops.org/event/woodland-park-co-op-open-house-2/
LOCATION:Woodland Park Cooperative Preschool\, 717 N 36th Street\, Seattle\, WA\, 98103\, United States
CATEGORIES:Open House
END:VEVENT
END:VCALENDAR