BEGIN:VCALENDAR
VERSION:2.0
PRODID:-//North Seattle Cooperative Preschools - ECPv6.15.17.1//NONSGML v1.0//EN
CALSCALE:GREGORIAN
METHOD:PUBLISH
X-ORIGINAL-URL:https://www.northseattlecoops.org
X-WR-CALDESC:Events for North Seattle Cooperative Preschools
REFRESH-INTERVAL;VALUE=DURATION:PT1H
X-Robots-Tag:noindex
X-PUBLISHED-TTL:PT1H
BEGIN:VTIMEZONE
TZID:America/Los_Angeles
BEGIN:DAYLIGHT
TZOFFSETFROM:-0800
TZOFFSETTO:-0700
TZNAME:PDT
DTSTART:20220313T100000
END:DAYLIGHT
BEGIN:STANDARD
TZOFFSETFROM:-0700
TZOFFSETTO:-0800
TZNAME:PST
DTSTART:20221106T090000
END:STANDARD
BEGIN:DAYLIGHT
TZOFFSETFROM:-0800
TZOFFSETTO:-0700
TZNAME:PDT
DTSTART:20230312T100000
END:DAYLIGHT
BEGIN:STANDARD
TZOFFSETFROM:-0700
TZOFFSETTO:-0800
TZNAME:PST
DTSTART:20231105T090000
END:STANDARD
BEGIN:DAYLIGHT
TZOFFSETFROM:-0800
TZOFFSETTO:-0700
TZNAME:PDT
DTSTART:20240310T100000
END:DAYLIGHT
BEGIN:STANDARD
TZOFFSETFROM:-0700
TZOFFSETTO:-0800
TZNAME:PST
DTSTART:20241103T090000
END:STANDARD
END:VTIMEZONE
BEGIN:VEVENT
DTSTART;TZID=America/Los_Angeles:20230204T100000
DTEND;TZID=America/Los_Angeles:20230204T110000
DTSTAMP:20260425T064938
CREATED:20230106T142246Z
LAST-MODIFIED:20230109T221100Z
UID:7336-1675504800-1675508400@www.northseattlecoops.org
SUMMARY:Queen Anne Co-op Open House
DESCRIPTION:QACP Open House\nQACP will be hosting our annual open house on Saturday February 4\, 2023\, beginning at 10AM. We encourage all prospective families to join us in touring the school and speaking with current parents and our wonderful teachers. \n2023/2024 Registration\nEnrollment for new students opens February 6\, 2023. Click here to apply! \nIf you are unsure which class to join\, please head over to our classes section. For any questions\, please send an email to info@queenannecoop.org. \n 
URL:https://www.northseattlecoops.org/event/queen-anne-co-op-open-house/
LOCATION:Queen Anne Co-op Preschool\, 2011 1st Ave N\, Seattle\, WA\, 98109\, United States
CATEGORIES:Open House
END:VEVENT
BEGIN:VEVENT
DTSTART;TZID=America/Los_Angeles:20230204T100000
DTEND;TZID=America/Los_Angeles:20230204T120000
DTSTAMP:20260425T064938
CREATED:20230130T220644Z
LAST-MODIFIED:20230130T220908Z
UID:7497-1675504800-1675512000@www.northseattlecoops.org
SUMMARY:PCPE Open House
DESCRIPTION:¿Tiene un bebé o niño(s) de 1 a 5 años que hablan español en casa? ¿Está interesado en aprender qué es una cooperativa preescolar? ¿Quiere formar parte de una comunidad bilingüe para usted y sus hijos? Sí está interesado en aprender más\, asista este evento el 4 de febrero 10:00am para la oportunidad de aprender más sobre nuestra cooperativa\, Phinney Cooperativa Preescolar en Español. \nLa filosofía educativa de PCPE se basa en el aprendizaje a través del juego\, buscando promover el desarrollo integral del niño y a su vez crear un entorno en el que los niños y sus familias puedan formar parte de una comunidad bilingüe de diferentes culturas latinas. \nAsista a esta jornada de puertas abiertas para obtener más información sobre nuestro preescolar en persona de edades múltiples para 2-5\, nuestro día para niños (0-2) y las horas dedicadas de prekínder (4-5). \nAdultos y niños son bienvenidos. \nPara más información puede visitar: http://www.pcpeseattle.org/ o ponerse en contacto con nosotros en: inscripciones@pcpeseattle.org \n++++++++++++++++++++++++ \nDo you have an infant to 5-year-old who speaks or is learning Spanish at home? Are you interested in a cooperative preschool experience? Would your family like to be a part of a strong bilingual community? If yes\, mark your calendar for Saturday\, Feb 4th from 10:00 to learn more about PCPE\, Phinney Cooperativa Preescolar en Español\, Seattle’s Original Spanish-language cooperative preschool. \nPCPE provides a play-based learning environment\, encouraging and supporting the whole child and his/her development process\, as well as a strong community of bilingual families from many diverse Latino cultures. \nAttend this Open House to learn more about our in-person multi-age preschool for 2-5\, our chicos (0-2) day\, and dedicated pre-K hours. \nAdults and children welcome! \nFor more info visit: http://www.pcpeseattle.org/ or contact us at: inscripciones@pcpeseattle.org.
URL:https://www.northseattlecoops.org/event/pcpe-open-house/
LOCATION:North Seattle College Childcare Center\, Childcare Center\, 9600 College Way N\, Seattle\, 98103\, United States
CATEGORIES:Open House
END:VEVENT
BEGIN:VEVENT
DTSTART;TZID=America/Los_Angeles:20230207T160000
DTEND;TZID=America/Los_Angeles:20230207T170000
DTSTAMP:20260425T064938
CREATED:20230106T141629Z
LAST-MODIFIED:20230109T221140Z
UID:7330-1675785600-1675789200@www.northseattlecoops.org
SUMMARY:Madison Park Coop Open House
DESCRIPTION:Open House\nTuesday\, February 7\, 2023 at 4:00 pm. We welcome all prospective families to join us in touring the school and speaking with current parents and Teacher Shannon. \nImportant Registration Dates\nSaturday\, January 14\, 2023 – Priority Registration Begins\nCurrently enrolled students can register beginning January 14.\nSaturday\, January 28\, 2023 – Alumni and Transfer Registration Begins\nCurrently enrolled students who are moving to a different co-op and previously enrolled MPCP families are welcome to register beginning January 28.\nSaturday\, February 11\, 2023 – Open Registration Begins \n 
URL:https://www.northseattlecoops.org/event/madison-park-coop-open-house/
LOCATION:Madison Park Cooperative Preschool\, 1900 43rd Ave E\, Seattle\, WA\, 98112\, United States
CATEGORIES:Open House
END:VEVENT
BEGIN:VEVENT
DTSTART;TZID=America/Los_Angeles:20230211T100000
DTEND;TZID=America/Los_Angeles:20230211T120000
DTSTAMP:20260425T064938
CREATED:20230106T202940Z
LAST-MODIFIED:20230106T203012Z
UID:7360-1676109600-1676116800@www.northseattlecoops.org
SUMMARY:Preschool Carnival
DESCRIPTION:Did you know that North Seattle College works with co-op preschools all over Seattle? From Meadowbrook to Rainier Valley\, we’ve got you\, and your friends\, covered! See all of our locations here.\n\nWe’re hosting a Co-op Preschool Carnival on February 11th\, 2023 at NSC—a fun family event for all and a chance for families thinking about preschool for next year to see how amazing co-op preschool is for kids and parents alike.\n\nAt the event\, there will be singalongs with our amazing teachers\, fun activities for the kids\, and a bake sale to raise scholarship funds. Parents will also have a chance to chat with representatives from each participating school.\n\nThe event will be 10am-12pm on the North Seattle Campus in the College Center building Room CC1161.\n\nDownload the flyer
URL:https://www.northseattlecoops.org/event/7360/
LOCATION:College Center (CC) Building\, Room CC1161 (1st Floor)\, 9600 College Way North\, Seattle\, WA\, 98103\, United States
CATEGORIES:Preschool Fair
END:VEVENT
BEGIN:VEVENT
DTSTART;TZID=America/Los_Angeles:20230216T190000
DTEND;TZID=America/Los_Angeles:20230216T203000
DTSTAMP:20260425T064938
CREATED:20230109T214450Z
LAST-MODIFIED:20230215T042050Z
UID:7396-1676574000-1676579400@www.northseattlecoops.org
SUMMARY:Neuroscience\, Wellbeing\, and Social Justice: An Exploration of Our Inner and Collective Resources
DESCRIPTION:Neuroscience\, Wellbeing\, and Social Justice: An Exploration of Our Inner and Collective Resources\nThis workshop explores the wisdom of the nervous system from both a neuroscience and social justice perspective\, reflecting on wellbeing in an individual capacity\, wellbeing as a collective necessity\, and the connection between wellbeing and social justice. \n \nOur guest speaker Paulina Cuevas Vega has been supporting families\, students\, and educators for more than 20 years. She is a Positive Discipline Lead Trainer\, with an MA in educational psychology\, a license in K-12 counseling\, and a 500-hour certificate as a Yoga and Mindfulness instructor. Among other topics\, she has facilitated more than 50 positive discipline workshops and has certified almost 1\,000 educators around the globe. She is passionate about using neuroscience\, embodiment\, and somatic practices to nurture self-care and wellbeing as an act of social justice. \n \nThis event will be held on Thursday\, February 16th\, 7-8:30 p.m. via Zoom. Register to receive the link. \n\n\n\nThis event is free and open to everyone. For families who are able\, please consider donating to our Coop Relief Fund\, in support of our coops needing post-pandemic financial assistance. \n  \nThank You to our Sponsors\n \n \n \n \n \n 
URL:https://www.northseattlecoops.org/event/neuroscience-wellbeing-and-social-justice-an-exploration-of-our-inner-and-collective-resources/
LOCATION:WA
END:VEVENT
END:VCALENDAR