BEGIN:VCALENDAR
VERSION:2.0
PRODID:-//North Seattle Cooperative Preschools - ECPv6.15.17.1//NONSGML v1.0//EN
CALSCALE:GREGORIAN
METHOD:PUBLISH
X-ORIGINAL-URL:https://www.northseattlecoops.org
X-WR-CALDESC:Events for North Seattle Cooperative Preschools
REFRESH-INTERVAL;VALUE=DURATION:PT1H
X-Robots-Tag:noindex
X-PUBLISHED-TTL:PT1H
BEGIN:VTIMEZONE
TZID:America/Los_Angeles
BEGIN:DAYLIGHT
TZOFFSETFROM:-0800
TZOFFSETTO:-0700
TZNAME:PDT
DTSTART:20220313T100000
END:DAYLIGHT
BEGIN:STANDARD
TZOFFSETFROM:-0700
TZOFFSETTO:-0800
TZNAME:PST
DTSTART:20221106T090000
END:STANDARD
BEGIN:DAYLIGHT
TZOFFSETFROM:-0800
TZOFFSETTO:-0700
TZNAME:PDT
DTSTART:20230312T100000
END:DAYLIGHT
BEGIN:STANDARD
TZOFFSETFROM:-0700
TZOFFSETTO:-0800
TZNAME:PST
DTSTART:20231105T090000
END:STANDARD
BEGIN:DAYLIGHT
TZOFFSETFROM:-0800
TZOFFSETTO:-0700
TZNAME:PDT
DTSTART:20240310T100000
END:DAYLIGHT
BEGIN:STANDARD
TZOFFSETFROM:-0700
TZOFFSETTO:-0800
TZNAME:PST
DTSTART:20241103T090000
END:STANDARD
END:VTIMEZONE
BEGIN:VEVENT
DTSTART;TZID=America/Los_Angeles:20230404T190000
DTEND;TZID=America/Los_Angeles:20230404T203000
DTSTAMP:20260425T033413
CREATED:20230113T220902Z
LAST-MODIFIED:20230329T132224Z
UID:7453-1680634800-1680640200@www.northseattlecoops.org
SUMMARY:The Playful Parenting/Teaching Approach to Childhood Anxieties and Fears with Dr. Lawrence Cohen
DESCRIPTION:Date: Tuesday\, April 4th\, 2023 from 7-8:30 pm on Zoom will remain available for more information and Q & A until 9 pm\nSpeaker: Dr. Larry Cohen \nTopic: “The Playful Teaching/Parenting Approach to Childhood Anxieties and Fears.” \nDr. Lawrence Cohen is a psychologist and author in Portland. His books Playful parenting and The Opposite of Worry have been translated into 18 languages\, and he is also the co-author of UNPLUG AND PLAY\, Best Friends Worst Enemies\, and Mom They’re Teasing Me. He leads parenting workshops and consults at schools around the country and around the world. \n  \nRegister on Event Brite\nThis event free to the public however you need to register before hand for the zoom link information.  Recordings will only be available to those who have registered. \nDonations to the North Seattle Co-op are welcome\n  \nThank You to our Sponsors
URL:https://www.northseattlecoops.org/event/the-playful-parenting-teaching-approach-to-childhood-anxieties-and-fears-with-dr-lawrence-cohen/
LOCATION:Online
CATEGORIES:Lecture
END:VEVENT
END:VCALENDAR