BEGIN:VCALENDAR
VERSION:2.0
PRODID:-//North Seattle Cooperative Preschools - ECPv6.15.17.1//NONSGML v1.0//EN
CALSCALE:GREGORIAN
METHOD:PUBLISH
X-ORIGINAL-URL:https://www.northseattlecoops.org
X-WR-CALDESC:Events for North Seattle Cooperative Preschools
REFRESH-INTERVAL;VALUE=DURATION:PT1H
X-Robots-Tag:noindex
X-PUBLISHED-TTL:PT1H
BEGIN:VTIMEZONE
TZID:America/Los_Angeles
BEGIN:DAYLIGHT
TZOFFSETFROM:-0800
TZOFFSETTO:-0700
TZNAME:PDT
DTSTART:20240310T100000
END:DAYLIGHT
BEGIN:STANDARD
TZOFFSETFROM:-0700
TZOFFSETTO:-0800
TZNAME:PST
DTSTART:20241103T090000
END:STANDARD
BEGIN:DAYLIGHT
TZOFFSETFROM:-0800
TZOFFSETTO:-0700
TZNAME:PDT
DTSTART:20250309T100000
END:DAYLIGHT
BEGIN:STANDARD
TZOFFSETFROM:-0700
TZOFFSETTO:-0800
TZNAME:PST
DTSTART:20251102T090000
END:STANDARD
BEGIN:DAYLIGHT
TZOFFSETFROM:-0800
TZOFFSETTO:-0700
TZNAME:PDT
DTSTART:20260308T100000
END:DAYLIGHT
BEGIN:STANDARD
TZOFFSETFROM:-0700
TZOFFSETTO:-0800
TZNAME:PST
DTSTART:20261101T090000
END:STANDARD
END:VTIMEZONE
BEGIN:VEVENT
DTSTART;TZID=America/Los_Angeles:20250404T190000
DTEND;TZID=America/Los_Angeles:20250404T210000
DTSTAMP:20260419T130756
CREATED:20250311T024808Z
LAST-MODIFIED:20250311T024808Z
UID:8635-1743793200-1743800400@www.northseattlecoops.org
SUMMARY:An Evening of Music with Edie Carey
DESCRIPTION:Please join us for an evening of music with Edie Carey. \nA fundraising concert for The Cesily Crowser Fund\, supporting families at Mary’s Place Shelters. \nApril 4th\, 2025\n7 pm – 9 pm \nNSC Library Auditorium \nSuggested Donation\n$30 – 1 ticket\n$50 – 2 tickets \nAfter donating\, your name will be added to a list at the door. No physical ticket will be issued.
URL:https://www.northseattlecoops.org/event/an-evening-of-music-with-edie-carey/
LOCATION:North Seattle College\, Library Auditorium\, 9600 College Way N\, Seattle\, WA\, 98103\, United States
END:VEVENT
BEGIN:VEVENT
DTSTART;TZID=America/Los_Angeles:20250405T103000
DTEND;TZID=America/Los_Angeles:20250405T120000
DTSTAMP:20260419T130756
CREATED:20250314T220154Z
LAST-MODIFIED:20250314T220154Z
UID:8642-1743849000-1743854400@www.northseattlecoops.org
SUMMARY:Woodland Park Co-op Open House and Swap & Share
DESCRIPTION:Visit our “junkyard” playground! Learn about co-op\, ages 2-K! Swap and share kids’ items! \nhttps://woodlandparkcoop.com
URL:https://www.northseattlecoops.org/event/woodland-park-co-op-open-house-and-swap-share/
LOCATION:Woodland Park Cooperative Preschool\, 717 N 36th Street\, Seattle\, WA\, 98103\, United States
CATEGORIES:Open House
END:VEVENT
BEGIN:VEVENT
DTSTART;TZID=America/Los_Angeles:20250423T190000
DTEND;TZID=America/Los_Angeles:20250423T210000
DTSTAMP:20260419T130756
CREATED:20250211T035041Z
LAST-MODIFIED:20250212T200118Z
UID:8563-1745434800-1745442000@www.northseattlecoops.org
SUMMARY:Families Embracing Anti-bias Values - Zoom Screening with Discussion After
DESCRIPTION:Join us on Wed. April 23\, 7:00-9:00 PM for a Zoom screening of the film Families Embracing Anti-Bias Values followed by a discussion with Debbie LeeKeenan.  \nThis is a free event (donations will support co-op scholarships). Please use this link to register: https://zoom.us/meeting/register/quTvQLEMTOuR5cirLGhkVg \nFamilies Embracing Anti-Bias Values is a 50-minute documentary about families who intentionally parent with an anti-bias lens\, exploring their hopes\, fears\, strengths\, challenges\, and the pivotal question: What kind of world do we want to create with our children? The film depicts these families in their everyday experiences at home\, in their communities\, and in schools. Each family has their own vision for social justice based on their unique identities\, histories\, experiences and context. They help their children develop positive social identities\, express comfort and joy with human differences\, and form deep\, caring connections. \nDebbie is the Co-Director and Co-Founder of Anti-Bias Leaders ECE and a lecturer\, consultant\, author\, and filmmaker\, currently residing in Seattle\, Washington. Learn more about the film & Debbie LeeKeenan. \nAll sponsorship donations will go directly to support families dealing with financial insecurity so that their children can have excellent early learning experiences for a great start while learning in a supportive community. PAC will also be accepting donations during this lecture. Please consider helping the NSC Cooperative Preschool Program support Seattle families with young children who are struggling to make ends meet. \nThe NSC Parent Education Program’s partnership with Affiliated Cooperative Preschools started over 50 years ago and we offer a warm and gentle introduction to school and community life for young children and their families. Adults and children learn together\, grow  together\, and actively build a community together. PAC is the nonprofit umbrella organization that works with the NSC Parent Education Program to provide parent and early education for families with children from infancy to Pre-K\, with one Kindergarten class as well.
URL:https://www.northseattlecoops.org/event/zoom-screening-of-the-film-families-embracing-anti-bias-values/
LOCATION:Online
CATEGORIES:Lecture
END:VEVENT
END:VCALENDAR