BEGIN:VCALENDAR
VERSION:2.0
PRODID:-//North Seattle Cooperative Preschools - ECPv6.15.17.1//NONSGML v1.0//EN
CALSCALE:GREGORIAN
METHOD:PUBLISH
X-ORIGINAL-URL:https://www.northseattlecoops.org
X-WR-CALDESC:Events for North Seattle Cooperative Preschools
REFRESH-INTERVAL;VALUE=DURATION:PT1H
X-Robots-Tag:noindex
X-PUBLISHED-TTL:PT1H
BEGIN:VTIMEZONE
TZID:America/Los_Angeles
BEGIN:DAYLIGHT
TZOFFSETFROM:-0800
TZOFFSETTO:-0700
TZNAME:PDT
DTSTART:20180311T100000
END:DAYLIGHT
BEGIN:STANDARD
TZOFFSETFROM:-0700
TZOFFSETTO:-0800
TZNAME:PST
DTSTART:20181104T090000
END:STANDARD
BEGIN:DAYLIGHT
TZOFFSETFROM:-0800
TZOFFSETTO:-0700
TZNAME:PDT
DTSTART:20190310T100000
END:DAYLIGHT
BEGIN:STANDARD
TZOFFSETFROM:-0700
TZOFFSETTO:-0800
TZNAME:PST
DTSTART:20191103T090000
END:STANDARD
BEGIN:DAYLIGHT
TZOFFSETFROM:-0800
TZOFFSETTO:-0700
TZNAME:PDT
DTSTART:20200308T100000
END:DAYLIGHT
BEGIN:STANDARD
TZOFFSETFROM:-0700
TZOFFSETTO:-0800
TZNAME:PST
DTSTART:20201101T090000
END:STANDARD
END:VTIMEZONE
BEGIN:VEVENT
DTSTART;TZID=America/Los_Angeles:20191104T093000
DTEND;TZID=America/Los_Angeles:20191104T113000
DTSTAMP:20260424T020142
CREATED:20191014T202927Z
LAST-MODIFIED:20191014T204643Z
UID:4938-1572859800-1572867000@www.northseattlecoops.org
SUMMARY:Parent Advisory Council Meeting Nov. 4
DESCRIPTION:Parent Advisory Council (PAC) Representatives from our more than 40 classes attend monthly meetings.
URL:https://www.northseattlecoops.org/event/parent-advisory-council-meeting-11-4/
LOCATION:Faith Lutheran Church\, 8208 18th Ave NE\, Seattle\, WA\, 98115\, United States
CATEGORIES:PAC Meeting
END:VEVENT
END:VCALENDAR